BEGIN:VCALENDAR
VERSION:2.0
PRODID:-//KYHA - ECPv6.15.20//NONSGML v1.0//EN
CALSCALE:GREGORIAN
METHOD:PUBLISH
X-ORIGINAL-URL:https://www.kyha.com
X-WR-CALDESC:Events for KYHA
REFRESH-INTERVAL;VALUE=DURATION:PT1H
X-Robots-Tag:noindex
X-PUBLISHED-TTL:PT1H
BEGIN:VTIMEZONE
TZID:America/Kentucky/Louisville
BEGIN:DAYLIGHT
TZOFFSETFROM:-0500
TZOFFSETTO:-0400
TZNAME:EDT
DTSTART:20220313T070000
END:DAYLIGHT
BEGIN:STANDARD
TZOFFSETFROM:-0400
TZOFFSETTO:-0500
TZNAME:EST
DTSTART:20221106T060000
END:STANDARD
BEGIN:DAYLIGHT
TZOFFSETFROM:-0500
TZOFFSETTO:-0400
TZNAME:EDT
DTSTART:20230312T070000
END:DAYLIGHT
BEGIN:STANDARD
TZOFFSETFROM:-0400
TZOFFSETTO:-0500
TZNAME:EST
DTSTART:20231105T060000
END:STANDARD
BEGIN:DAYLIGHT
TZOFFSETFROM:-0500
TZOFFSETTO:-0400
TZNAME:EDT
DTSTART:20240310T070000
END:DAYLIGHT
BEGIN:STANDARD
TZOFFSETFROM:-0400
TZOFFSETTO:-0500
TZNAME:EST
DTSTART:20241103T060000
END:STANDARD
BEGIN:DAYLIGHT
TZOFFSETFROM:-0500
TZOFFSETTO:-0400
TZNAME:EDT
DTSTART:20250309T070000
END:DAYLIGHT
BEGIN:STANDARD
TZOFFSETFROM:-0400
TZOFFSETTO:-0500
TZNAME:EST
DTSTART:20251102T060000
END:STANDARD
END:VTIMEZONE
BEGIN:VEVENT
DTSTART;TZID=America/Kentucky/Louisville:20240305T150000
DTEND;TZID=America/Kentucky/Louisville:20240305T160000
DTSTAMP:20260423T145648
CREATED:20240202T202836Z
LAST-MODIFIED:20240207T205112Z
UID:17692-1709650800-1709654400@www.kyha.com
SUMMARY:KHA Town Hall: Houchens and ParetoHealth: Change for The Better
DESCRIPTION:ParetoHealth\, the largest health benefits captive in the country\, and Houchens Insurance Group\, a Kentucky company which is among the top 50 insurance agencies across the country year after year\, will discuss employee health benefit solutions\, including but not limited to\, commercial insurance\, insurance through a captive and self-insurance with multi-year protection. The purpose of the presentation is to educate healthcare entities about insurance options and assist them in taking control of their healthcare spending while reducing risk. \nContact Tammy Wells at twells@kyha.com to be added to the education distribution list (with information on how to register) and to receive additional information on upcoming offerings via email.
URL:https://www.kyha.com/event/town-hall-houchens-and-paretohealth-change-for-the-better/
CATEGORIES:Town Hall
ATTACH;FMTTYPE=image/webp:https://www.kyha.com/wp-content/uploads/2023/12/town-hall-listing-image.webp
END:VEVENT
BEGIN:VEVENT
DTSTART;TZID=America/Kentucky/Louisville:20240305T093000
DTEND;TZID=America/Kentucky/Louisville:20240305T103000
DTSTAMP:20260423T145648
CREATED:20240226T191521Z
LAST-MODIFIED:20240226T191521Z
UID:18633-1709631000-1709634600@www.kyha.com
SUMMARY:KHA Special Town Hall: Kaufman Hall Presents Report on Financial Condition of Kentucky Hospitals
DESCRIPTION:This webinar is available to KHA Members Only. \nContact Tammy Wells at twells@kyha.com to be added to the education distribution list (with information on how to register) and to receive additional information on upcoming offerings via email.
URL:https://www.kyha.com/event/kha-special-town-hall-kaufman-hall-presents-report-on-financial-condition-of-kentucky-hospitals/
CATEGORIES:Town Hall
ATTACH;FMTTYPE=image/webp:https://www.kyha.com/wp-content/uploads/2023/12/town-hall-listing-image.webp
END:VEVENT
BEGIN:VEVENT
DTSTART;TZID=America/Kentucky/Louisville:20240301T110000
DTEND;TZID=America/Kentucky/Louisville:20240301T120000
DTSTAMP:20260423T145648
CREATED:20240219T145351Z
LAST-MODIFIED:20240219T145419Z
UID:18475-1709290800-1709294400@www.kyha.com
SUMMARY:KHA Town Hall: Discussion of New Department of Labor Rules Surrounding Independent Contractors
DESCRIPTION:Steven Clark\, Member\nKirby Black\, Associate\nStoll Keenon and Ogden \nContact Tammy Wells at twells@kyha.com to be added to the education distribution list (with information on how to register) and to receive additional information on upcoming offerings via email.
URL:https://www.kyha.com/event/kha-town-hall-discussion-of-new-department-of-labor-rules-surrounding-independent-contractors/
CATEGORIES:Town Hall
END:VEVENT
BEGIN:VEVENT
DTSTART;TZID=America/Kentucky/Louisville:20240227T150000
DTEND;TZID=America/Kentucky/Louisville:20240227T160000
DTSTAMP:20260423T145648
CREATED:20240219T145102Z
LAST-MODIFIED:20240219T145131Z
UID:18472-1709046000-1709049600@www.kyha.com
SUMMARY:KHA Town Hall: Credentialing Overview with Verisys
DESCRIPTION:Contact Tammy Wells at twells@kyha.com to be added to the education distribution list (with information on how to register) and to receive additional information on upcoming offerings via email.
URL:https://www.kyha.com/event/kha-town-hall-credentialing-overview-with-verisys/
CATEGORIES:Town Hall
END:VEVENT
BEGIN:VEVENT
DTSTART;TZID=America/Kentucky/Louisville:20240213T150000
DTEND;TZID=America/Kentucky/Louisville:20240213T160000
DTSTAMP:20260423T145648
CREATED:20240103T165725Z
LAST-MODIFIED:20240103T165725Z
UID:15757-1707836400-1707840000@www.kyha.com
SUMMARY:KHA Town Hall: How Responsible Medical Surplus Supply Management Supports Healthier Communities
DESCRIPTION:Please join KHA on Tuesday\, February 13 at 3:00 p.m. ET for a virtual Town Hall presentation with Supplies Over Seas (SOS) International! Denise Sears\, President and CEO of SOS International\, will review best practices for responsible medical surplus management. This session will also detail the impact that SOS and recycling partner hospitals are making by changing and saving lives through the local\, international and disaster relief programs. Learn the cost effectiveness and community impact of a responsible hospital recycling program with SOS (one of only six organizations nationally accredited by the MedSurplus Alliance!). \nSpeaker:\nDenise Sears\nPresident and CEO\nSOS International \nContact Tammy Wells at twells@kyha.com to be added to the education distribution list (with information on how to register) and to receive additional information on upcoming offerings via email.
URL:https://www.kyha.com/event/kha-town-hall-how-responsible-medical-surplus-supply-management-supports-healthier-communities/
CATEGORIES:Town Hall
ATTACH;FMTTYPE=image/webp:https://www.kyha.com/wp-content/uploads/2023/12/town-hall-listing-image.webp
END:VEVENT
BEGIN:VEVENT
DTSTART;TZID=America/Kentucky/Louisville:20240206T150000
DTEND;TZID=America/Kentucky/Louisville:20240206T160000
DTSTAMP:20260423T145648
CREATED:20240124T205704Z
LAST-MODIFIED:20240124T205704Z
UID:17001-1707231600-1707235200@www.kyha.com
SUMMARY:KHA Town Hall: Recruiting and Retaining Staff using Universal Design and Learning Principles
DESCRIPTION:Please join KHA on February 6 at 3:00 p.m. ET for a virtual Town Hall presentation. Christina Espinosa will discuss how to assure your hospital is maximizing its environment to avoid overlooking any opportunity to recruit and retain everyone who can contribute to the care of patients in any way\, in all locations\, and in all capacities. In today’s world\, leaders MUST think creatively about ways to keep the current expertise and experience and attain more whenever possible. \nSpeaker:\nChristina Espinosa\, MRC\, CRC\nDivision Director\, Community Education\nUniversity of Kentucky Human Development Institute \nContact Tammy Wells at twells@kyha.com to be added to the education distribution list (with information on how to register) and to receive additional information on upcoming offerings via email.
URL:https://www.kyha.com/event/kha-town-hall-recruiting-and-retaining-staff-using-universal-design-and-learning-principles/
CATEGORIES:Town Hall
ATTACH;FMTTYPE=image/webp:https://www.kyha.com/wp-content/uploads/2023/12/town-hall-listing-image.webp
END:VEVENT
BEGIN:VEVENT
DTSTART;TZID=America/Kentucky/Louisville:20240116T150000
DTEND;TZID=America/Kentucky/Louisville:20240116T160000
DTSTAMP:20260423T145648
CREATED:20231219T202025Z
LAST-MODIFIED:20240109T144844Z
UID:15120-1705417200-1705420800@www.kyha.com
SUMMARY:KHA Town Hall: KHA Introduces Partnership with Transformational Intervention Supporting Highly Reliable Communication
DESCRIPTION:Please join KHA on Tuesday\, January 16 at 3:00 p.m. ET for a virtual Town Hall presentation\, KHA Introduces Partnership with Transformational Intervention Supporting Highly Reliable Communication. KHA will share our offer to participate in a transformational partnership with the I-PASS Institute which is available to member hospitals. The guest speakers will discuss standardizing hand-off communications and systematically embedding the process into standard work across all disciplines\, the entire hospital\, and between hospitals.  \nSpeakers:\nDr. Chris Landrigan\nChief of General Pediatric at Boston Children’s Hospital\nCo-Founder of I-PASS Institute \nMarshall Burkhart\nVice President of Client Experience\nI-PASS Institute \nJeneen Carman\nSystem Chief Nursing Officer\nAppalachian Regional Healthcare \nDeb Campbell\nVice President of Clinical Strategy and Transformation\nKentucky Hospital Association \nContact Tammy Wells at twells@kyha.com to be added to the education distribution list (with information on how to register) and to receive additional information on upcoming offerings via email.
URL:https://www.kyha.com/event/kha-town-hall-kha-introduces-partnership-with-transformational-intervention-supporting-highly-reliable-communication/
CATEGORIES:Education,Town Hall
ATTACH;FMTTYPE=image/webp:https://www.kyha.com/wp-content/uploads/2023/12/town-hall-listing-image.webp
END:VEVENT
BEGIN:VEVENT
DTSTART;TZID=America/Kentucky/Louisville:20231114T150000
DTEND;TZID=America/Kentucky/Louisville:20231114T160000
DTSTAMP:20260423T145648
CREATED:20231101T155339Z
LAST-MODIFIED:20231114T191933Z
UID:8802-1699974000-1699977600@www.kyha.com
SUMMARY:KHA Town Hall: Current State of Sexual Assault Response and SANE Readiness
DESCRIPTION:Please join KHA on Tuesday\, November 14 at 3:00 p.m. (ET) for a virtual Town Hall on the Current State of Sexual Assault Response and SANE Readiness. \nThis presentation will cover the current state of Kentucky hospitals’ engagement with the regulation\, actual performance\, education\, care and support for patients who have experienced sexual assault. KHA’s Deb Campbell\, Vice President of Clinical Strategy and Transformation\, will join our speakers to discuss the gaps as well as the assistance currently available and in the planning stages. \nSpeakers:\nSerenda LoBue\, Collaboration Specialist\nJenna Cassady\, Staff Attorney\nKentucky Association of Sexual Assault Programs \nTo better serve you\, KHA has moved to a registration process for all educational offerings. After registering\, please download the meeting hold for your calendar. Contact Tammy Wells to be added to the education distribution list and receive additional information on upcoming offerings via email. \nContact: Tammy Wells
URL:https://www.kyha.com/event/kha-town-hall-current-state-of-sexual-assault-response-and-sane-readiness/
CATEGORIES:Education,Town Hall
ATTACH;FMTTYPE=image/webp:https://www.kyha.com/wp-content/uploads/2023/10/town-hall-sane-listing-image.webp
END:VEVENT
BEGIN:VEVENT
DTSTART;TZID=America/Kentucky/Louisville:20231107T150000
DTEND;TZID=America/Kentucky/Louisville:20231107T160000
DTSTAMP:20260423T145648
CREATED:20231023T145449Z
LAST-MODIFIED:20231103T131329Z
UID:5979-1699369200-1699372800@www.kyha.com
SUMMARY:KHA Town Hall: Clarification around HB512 and Level Designations for Heart Care
DESCRIPTION:Please join KHA on Tuesday\, November 7 at 3:00 p.m. (ET) for a virtual Town Hall on Clarification around HB512 and Level Designations for Heart Care. \nThis presentation will discuss clarification around HB512 and the various level designations for heart care. With the goal of statewide improvement\, representatives from Kentucky hospitals will join the Cabinet for Health and Family Services\, American Hospital Association (AHA) and KHA’s Deb Campbell to discuss the current work being done\, plans for the future and assistance available to hospitals. \nTo better serve you\, KHA has moved to a registration process for all educational offerings. After registering\, please download the meeting hold for your calendar. Contact Tammy Wells to be added to the education distribution list and receive additional information on upcoming offerings via email. \nContact: Tammy Wells
URL:https://www.kyha.com/event/kha-town-hall-clarification-around-hb512-and-level-designations-for-heart-care/
CATEGORIES:Education,Town Hall
END:VEVENT
END:VCALENDAR