BEGIN:VCALENDAR
VERSION:2.0
PRODID:-//KYHA - ECPv6.15.20//NONSGML v1.0//EN
CALSCALE:GREGORIAN
METHOD:PUBLISH
X-WR-CALNAME:KYHA
X-ORIGINAL-URL:https://www.kyha.com
X-WR-CALDESC:Events for KYHA
REFRESH-INTERVAL;VALUE=DURATION:PT1H
X-Robots-Tag:noindex
X-PUBLISHED-TTL:PT1H
BEGIN:VTIMEZONE
TZID:America/Kentucky/Louisville
BEGIN:DAYLIGHT
TZOFFSETFROM:-0500
TZOFFSETTO:-0400
TZNAME:EDT
DTSTART:20250309T070000
END:DAYLIGHT
BEGIN:STANDARD
TZOFFSETFROM:-0400
TZOFFSETTO:-0500
TZNAME:EST
DTSTART:20251102T060000
END:STANDARD
BEGIN:DAYLIGHT
TZOFFSETFROM:-0500
TZOFFSETTO:-0400
TZNAME:EDT
DTSTART:20260308T070000
END:DAYLIGHT
BEGIN:STANDARD
TZOFFSETFROM:-0400
TZOFFSETTO:-0500
TZNAME:EST
DTSTART:20261101T060000
END:STANDARD
BEGIN:DAYLIGHT
TZOFFSETFROM:-0500
TZOFFSETTO:-0400
TZNAME:EDT
DTSTART:20270314T070000
END:DAYLIGHT
BEGIN:STANDARD
TZOFFSETFROM:-0400
TZOFFSETTO:-0500
TZNAME:EST
DTSTART:20271107T060000
END:STANDARD
END:VTIMEZONE
BEGIN:VEVENT
DTSTART;TZID=America/Kentucky/Louisville:20260114T110000
DTEND;TZID=America/Kentucky/Louisville:20260114T120000
DTSTAMP:20260423T134151
CREATED:20251219T133919Z
LAST-MODIFIED:20251219T134048Z
UID:35060-1768388400-1768392000@www.kyha.com
SUMMARY:KHA Town Hall: Annual KHA Workforce Survey: Overview\, Data Collection & Submission
DESCRIPTION:Maik Schutze\, Director for Health Information & Analytics\, will provide an overview of the KHA Workforce Survey\, walk through the data collection and submission process\, review updates\, and share best practices to ensure accuracy and consistency. This session is designed for member hospital executives\, leadership\, human resources\, workforce planning staff\, nursing leaders\, and data analysts. \n\nKHA MEMBERS: CLICK HERE TO REGISTER\n\n 
URL:https://www.kyha.com/event/35060/
CATEGORIES:Town Hall
ATTACH;FMTTYPE=image/webp:https://www.kyha.com/wp-content/uploads/2023/12/town-hall-listing-image.webp
END:VEVENT
BEGIN:VEVENT
DTSTART;TZID=America/Kentucky/Louisville:20260127T150000
DTEND;TZID=America/Kentucky/Louisville:20260127T160000
DTSTAMP:20260423T134151
CREATED:20251219T181348Z
LAST-MODIFIED:20251219T181739Z
UID:35108-1769526000-1769529600@www.kyha.com
SUMMARY:KHA Town Hall: Kentucky Heart Systems of Care: We've Come a Long Way
DESCRIPTION:Greg Brislin will share information about this collaborative\, state-wide committee whose aims include reducing cardiovascular mortality\, identifying regions of the state with high mortality and developing action plans to coordinate resources to address the needs of the region\, improve CPR and EHAC use and care in the community and schools\, support educational and community organizations\, assisting EMS with improving care and communication\, and improving Hospital (ACC and AHA) based metrics like Cardiac Rehab and Door In Door Out times for facilities. This volunteer group is made up of representatives from the cardiac world across the state\, including many hospitals and systems. \nTarget Audience: Nursing and quality leaders\, physician leaders\, accreditation managers\, cardiology/cardiac leaders\, ED leaders and staff \nSpeaker: Greg Brislin\, Program Manager: Chest Pain Center at UofL Health Jewish Hospital; Co-Chair of the Heart Systems of Care Committee; Vice Chair\, Cardiac and Stroke Subcommittee\, KBEMS \n\nKHA MEMBERS: CLICK HERE TO ACCESS THE ZOOM LINK
URL:https://www.kyha.com/event/kha-town-hall-kentucky-heart-systems-of-care-weve-come-a-long-way/
CATEGORIES:Town Hall
ATTACH;FMTTYPE=image/webp:https://www.kyha.com/wp-content/uploads/2023/12/town-hall-listing-image.webp
END:VEVENT
BEGIN:VEVENT
DTSTART;TZID=America/Kentucky/Louisville:20260203T150000
DTEND;TZID=America/Kentucky/Louisville:20260203T160000
DTSTAMP:20260423T134151
CREATED:20250609T140116Z
LAST-MODIFIED:20250609T140116Z
UID:31002-1770130800-1770134400@www.kyha.com
SUMMARY:KHA Town Hall: Resilience - Turning Adversity into Opportunity
DESCRIPTION:What a challenging time it has been for us all! Today\, patients are facing additional challenges of their own and need help more than ever. Our own associates have had to adapt quickly and face challenges like never before. How can you and your team come out on the other side of this even better? The key is Resilience. Developing resilience in yourself and your team will help in your work and personal lives.  We take a deep dive into the science behind “resilience” and show you how to master this critical skill. \nThis presentation will help you: \n\nDefine resilience and the impact on your life\nOutline the six pillars of resilience and define how to use them in our professional and personal life.\nDevelop a toolbox to help you and your team become more resilient\n\nSpeaker:\nBrian Garver\nSenior Vice President\nKeyBridge Medical Revenue Care \nFor Zoom information\, please contact Lauren Wheatley at KHA at lwheatley@kyha.com.
URL:https://www.kyha.com/event/kha-town-hall-resilience-turning-adversity-into-opportunity/
CATEGORIES:Town Hall
ATTACH;FMTTYPE=image/webp:https://www.kyha.com/wp-content/uploads/2023/12/town-hall-listing-image.webp
END:VEVENT
BEGIN:VEVENT
DTSTART;TZID=America/Kentucky/Louisville:20260219T100000
DTEND;TZID=America/Kentucky/Louisville:20260219T110000
DTSTAMP:20260423T134151
CREATED:20260204T143011Z
LAST-MODIFIED:20260204T143026Z
UID:35994-1771495200-1771498800@www.kyha.com
SUMMARY:KHA Town Hall: Overview of the Kentucky Rural Health Transformation Program
DESCRIPTION:KHA’s Nancy Galvagni and Bud Warman will provide an overview of Kentucky’s Rural Health Transformation Program application and how Kentucky hospitals may be incorporated into one or more of the five initiatives. This presentation will help you understand the Kentucky Rural Health Transformation Plan including goals and strategies and how Kentucky hospitals may be incorporated into the five rural health priority focus areas. This is a KHA members-only Town Hall\, and registration is required. \nTarget Audience: CEOs\, CFOs\, COOs\, CNOs\, and Quality Directors \n\nKHA MEMBERS: CLICK HERE TO REGISTER\n\nSpeakers:\nNancy Galvagni\nPresident/CEO\nKentucky Hospital Association \nBud Warman\nVice President of Business Development and Member Services\nKentucky Hospital Association
URL:https://www.kyha.com/event/kha-town-hall-overview-of-the-kentucky-rural-health-transformation-program/
CATEGORIES:Town Hall
ATTACH;FMTTYPE=image/webp:https://www.kyha.com/wp-content/uploads/2023/12/town-hall-listing-image.webp
END:VEVENT
BEGIN:VEVENT
DTSTART;TZID=America/Kentucky/Louisville:20260223T140000
DTEND;TZID=America/Kentucky/Louisville:20260223T150000
DTSTAMP:20260423T134151
CREATED:20260204T201637Z
LAST-MODIFIED:20260205T182906Z
UID:36050-1771855200-1771858800@www.kyha.com
SUMMARY:KHA Town Hall: KBN's Clinical Instructor and Preceptor Workshop
DESCRIPTION:Based on conversations with members and schools of nursing\, this virtual session will use didactic lecture with Power Point to address the need for more practical\, real-world training for clinical instructors and preceptors to better support student learning and improve nurse recruitment and retention. \n\nKHA MEMBERS: CLICK HERE TO REGISTER\n\nPresenter: Joy Pennington\, MSN\, Ed.\, RN\, Executive Nurse Academic Officer\, Kentucky Board of Nursing \nObjectives: At the conclusion of this offering\, attendees will be able to: \n\nUnderstand the importance of tying course objectives to clinical experiences\nCreate a conducive learning environment in the clinical setting\nEvaluate how students are doing\nIdentify what nurses need to know to become strong instructors/preceptors\n\nTarget Audience: Hospital nurses\, educators\, HR team members\, and other leaders interested in improving the clinical instruction and preceptor experiences to teach and recruit future nurses \nContinuing Education: The Kentucky Hospital Association is an approved provider of continuing nursing education by the Kentucky Board of Nursing (KBN). KBN approval of a continuing nursing education provider does not constitute endorsement of program content. This educational activity is offered for 1.2 contact hours\, with offering number 5-0023-12-27-09\, expiration date 12-31-27. No partial credit will be given. To receive credit\, participants must attend the entire educational offering\, provide their nursing license number\, and complete the offering evaluation. After the conclusion of this webinar\, an evaluation link will be sent to attendees. Attendees will have a deadline of 03/02/2026 to complete the survey in order to receive the CEU certificate. Failure to complete any step in the process outlined above will result in non-issuance of CEU credit in accordance with KBN guidelines.
URL:https://www.kyha.com/event/kha-town-hall-kbns-clinical-instructor-and-preceptor-workshop/
CATEGORIES:Town Hall
ATTACH;FMTTYPE=image/webp:https://www.kyha.com/wp-content/uploads/2023/12/town-hall-listing-image.webp
END:VEVENT
BEGIN:VEVENT
DTSTART;TZID=America/Kentucky/Louisville:20260225T130000
DTEND;TZID=America/Kentucky/Louisville:20260225T140000
DTSTAMP:20260423T134151
CREATED:20260205T142136Z
LAST-MODIFIED:20260205T142226Z
UID:36078-1772024400-1772028000@www.kyha.com
SUMMARY:KHA Town Hall: Occupational Mix Survey Calendar Year 2025
DESCRIPTION:CMS is required to collect data every three years on the occupational mix of employees for short-term\, acute care hospitals participating in the Medicare program. During this session\, our speakers will discuss the national statistics and important considerations when filling out the survey. This is a member-only Town Hall\, and registration is required. \n\nKHA MEMBERS: CLICK HERE TO REGISTER\n\nTarget Audience: Finance and reimbursement personnel at short-term\, acute care hospitals \nSpeakers:\nJordan Rose\, Senior Manager\, Blue & Co.\, LLC\nAustin Fisher\, Senior Manager\, Blue & Co.\, LLC
URL:https://www.kyha.com/event/kha-town-hall-occupational-mix-survey-calendar-year-2025/
CATEGORIES:Town Hall
ATTACH;FMTTYPE=image/webp:https://www.kyha.com/wp-content/uploads/2023/12/town-hall-listing-image.webp
END:VEVENT
BEGIN:VEVENT
DTSTART;TZID=America/Kentucky/Louisville:20260304T100000
DTEND;TZID=America/Kentucky/Louisville:20260304T110000
DTSTAMP:20260423T134151
CREATED:20260121T141134Z
LAST-MODIFIED:20260121T141221Z
UID:35539-1772618400-1772622000@www.kyha.com
SUMMARY:KHA Town Hall: 5 Keys to a Successful Denials Prevention Program
DESCRIPTION:This session will focus on proactive strategies to prevent claim denials by highlighting five critical elements to prioritize. We’ll discuss the importance of strong front-end processes and shifting the focus from recovery to denial prevention. \n\nKHA MEMBERS: CLICK HERE FOR ZOOM INFORMATION\n\n \nTarget Audience: CFOs and other hospital finance leaders \nSpeaker:\nSandie Sutton\, RN\, BSN\nChief Revenue Strategy Officer\nPhysician Care Coordination Consultants (PC3)
URL:https://www.kyha.com/event/kha-town-hall-5-keys-to-a-successful-denials-prevention-program/
CATEGORIES:Town Hall
ATTACH;FMTTYPE=image/webp:https://www.kyha.com/wp-content/uploads/2023/12/town-hall-listing-image.webp
END:VEVENT
BEGIN:VEVENT
DTSTART;TZID=America/Kentucky/Louisville:20260310T110000
DTEND;TZID=America/Kentucky/Louisville:20260310T120000
DTSTAMP:20260423T134151
CREATED:20260225T194238Z
LAST-MODIFIED:20260225T194238Z
UID:36977-1773140400-1773144000@www.kyha.com
SUMMARY:KHA Town Hall: KHA Hospital Economic Importance Report
DESCRIPTION:KHA MEMBERS: CLICK HERE TO REGISTER\n\nKHA members are invited to join a Town Hall meeting on March 10 from 11:00 a.m.-12:00 p.m. ET to discuss the new KHA Hospital Economic Importance Report. The popular report is back and better than ever. KHA contracted with economists for a completely new report that is modernized with a new model to more accurately share how your hospital or system impacts the economy. As some of the largest employers in the state\, this is a great opportunity to show your local\, state\, and federal elected officials how important you are to your community\, your region\, and the Commonwealth as a whole. \nLearn from Economic Development Data Research Consultant Barry Kornstein how the new report was created with IMPLAN and hear ways you can use your custom report from the KHA team. This is a members-only Town Hall and registration is required. \nHospital and system CEOs\, CFOs\, government relations\, public relations\, and marketing teams are encouraged to attend.
URL:https://www.kyha.com/event/kha-town-hall-kha-hospital-economic-importance-report/
CATEGORIES:Town Hall
ATTACH;FMTTYPE=image/webp:https://www.kyha.com/wp-content/uploads/2023/12/town-hall-listing-image.webp
END:VEVENT
BEGIN:VEVENT
DTSTART;TZID=America/Kentucky/Louisville:20260310T150000
DTEND;TZID=America/Kentucky/Louisville:20260310T160000
DTSTAMP:20260423T134151
CREATED:20260123T202630Z
LAST-MODIFIED:20260123T202815Z
UID:35589-1773154800-1773158400@www.kyha.com
SUMMARY:KHA Town Hall: Partnerships in Palliative and Hospice Care Transitions
DESCRIPTION:KHA MEMBERS: CLICK HERE FOR ZOOM INFORMATION\n\nThis session will highlight a proven hospital-hospice partnership model that elevates quality of care while proactively addressing mortality. Attendees will gain insight into aligning clinical workflows\, communication\, and accountability to better support patients\, families\, and care teams. \nTarget Audience: Case managers\, physicians\, quality leaders\, CNOs\, CEOs \nSpeakers:\nRobert Cardarelli\, DO\, MPH\, MHA\nChief Medical Officer\nVice President of Medical Affairs\nBaptist Health Louisville \nBethany Snider\, MD\, HDMC\, FACP\, FAAHPM\nChief Medical Officer\nEverent Health
URL:https://www.kyha.com/event/kha-town-hall-partnerships-in-palliative-and-hospice-care-transitions/
CATEGORIES:Town Hall
ATTACH;FMTTYPE=image/webp:https://www.kyha.com/wp-content/uploads/2023/12/town-hall-listing-image.webp
END:VEVENT
BEGIN:VEVENT
DTSTART;TZID=America/Kentucky/Louisville:20260318T140000
DTEND;TZID=America/Kentucky/Louisville:20260318T150000
DTSTAMP:20260423T134151
CREATED:20260113T192615Z
LAST-MODIFIED:20260113T192919Z
UID:35358-1773842400-1773846000@www.kyha.com
SUMMARY:KHA Town Hall: Overcoming Rural Recruitment Bias: Strategies to Attract and Retain Physicians
DESCRIPTION:This session will explore how healthcare organizations can reframe the narrative around rural practice by addressing these biases and showcasing the unique advantages these communities offer. Our speaker will also share a real-world success story to demonstrate how modern recruitment techniques\, targeted incentives\, and a focus on cultural fit can successfully attract physicians and ensure long-term retention. By the end of this session\, participants will be able to identify strategies for overcoming common biases about rural practice and speak the language of today’s physicians\, aligning recruitment efforts with their career priorities to craft compelling and attractive rural opportunities that effectively engage and retain top talent. \n\nKHA MEMBERS: CLICK HERE TO ACCESS THE ZOOM LINK\n\nTarget Audience: Hospital and health system leaders \nSpeaker: Tim Sheley\, Executive Vice President of Business Development\, Jackson Physician Search \n 
URL:https://www.kyha.com/event/kha-town-hall-overcoming-rural-recruitment-bias-strategies-to-attract-and-retain-physicians/
CATEGORIES:Town Hall
ATTACH;FMTTYPE=image/webp:https://www.kyha.com/wp-content/uploads/2023/12/town-hall-listing-image.webp
END:VEVENT
BEGIN:VEVENT
DTSTART;TZID=America/Kentucky/Louisville:20260319T150000
DTEND;TZID=America/Kentucky/Louisville:20260319T160000
DTSTAMP:20260423T134151
CREATED:20260116T154036Z
LAST-MODIFIED:20260116T154233Z
UID:35434-1773932400-1773936000@www.kyha.com
SUMMARY:KHA Town Hall: Beyond the Query: The Far-Reaching Impact of a Successful CDI Program
DESCRIPTION:Historically\, CDI programs were seen as merely revenue generating. Today\, CDI programs touch many\, if not all\, areas of health care. During this Town Hall\, we’ll explore the history and evolution of CDI programs and identify CDI areas of opportunity and potential strategies to address them. \n\nKHA MEMBERS: CLICK HERE FOR ZOOM INFORMATION\n\n\nTarget Audience: C-suite\, quality\, clinical\, and revenue cycle leaders \nSpeaker:\nDee Banet\, MSN\, RN\, CCDS\, CCDS-O\, CDIP\, CCS\nChief CDI Officer\nPhysician Care Coordination Consultants (PC3)
URL:https://www.kyha.com/event/kha-town-hall-beyond-the-query-the-far-reaching-impact-of-a-successful-cdi-program/
CATEGORIES:Town Hall
ATTACH;FMTTYPE=image/webp:https://www.kyha.com/wp-content/uploads/2023/12/town-hall-listing-image.webp
END:VEVENT
BEGIN:VEVENT
DTSTART;TZID=America/Kentucky/Louisville:20260325T130000
DTEND;TZID=America/Kentucky/Louisville:20260325T140000
DTSTAMP:20260423T134151
CREATED:20260309T170549Z
LAST-MODIFIED:20260309T171002Z
UID:37157-1774443600-1774447200@www.kyha.com
SUMMARY:KHA Town Hall: Medicare Wage Index and Geographic Reclassifications
DESCRIPTION:This session will communicate details of the Medicare Wage Index and Medicare Geographic Reclassifications and how it impacts hospital payments\, for them and their neighbors. We’ll explore the drivers of average hourly wage reporting in terms of clinical and non-clinical areas for both payroll and contract personnel\, and the MGCRB geographic reclassifications and factors that allow hospitals to qualify. This is a KHA members-only Town Hall and registration is required. \n\nKHA MEMBERS: CLICK HERE TO REGISTER\n\nTarget Audience: Finance and reimbursement personnel for short-term\, acute care hospitals\n\nSpeakers: Austin Fisher\, Senior Manager\, Blue & Co.\, LLC\nJordan Rose\, Senior Manager\, Blue & Co.\, LLC
URL:https://www.kyha.com/event/37157/
CATEGORIES:Town Hall
ATTACH;FMTTYPE=image/webp:https://www.kyha.com/wp-content/uploads/2023/12/town-hall-listing-image.webp
END:VEVENT
BEGIN:VEVENT
DTSTART;TZID=America/Kentucky/Louisville:20260326T140000
DTEND;TZID=America/Kentucky/Louisville:20260326T150000
DTSTAMP:20260423T134151
CREATED:20260226T155246Z
LAST-MODIFIED:20260226T155246Z
UID:36985-1774533600-1774537200@www.kyha.com
SUMMARY:KHA Town Hall: Closing the Gap Between Visits: UK Cooperative Extension’s Impact on Lifestyle Change
DESCRIPTION:This presentation explores how UK Cooperative Extension bridges the gap between clinical care and community-based lifestyle support. Attendees will learn how Extension’s evidence based programs complement patient care by addressing nutrition\, physical activity\, stress\, and chronic disease management where people live\, work\, and play. \n\nKHA MEMBERS: CLICK HERE FOR ZOOM DETAILS\n\nTarget Audience: Hospital leaders\, nutrition and dietetics leaders at hospitals \nSpeaker: Heather Norman-Burgdolf\, Associate Extension Professor\, Department of Dietetics and Human Nutrition\, University of Kentucky
URL:https://www.kyha.com/event/kha-town-hall-closing-the-gap-between-visits-uk-cooperative-extensions-impact-on-lifestyle-change/
CATEGORIES:Town Hall
ATTACH;FMTTYPE=image/webp:https://www.kyha.com/wp-content/uploads/2023/12/town-hall-listing-image.webp
END:VEVENT
BEGIN:VEVENT
DTSTART;TZID=America/Kentucky/Louisville:20260407T150000
DTEND;TZID=America/Kentucky/Louisville:20260407T160000
DTSTAMP:20260423T134151
CREATED:20250609T135931Z
LAST-MODIFIED:20260402T183604Z
UID:31000-1775574000-1775577600@www.kyha.com
SUMMARY:KHA Town Hall: Change Like a Champ - Effective Change Management in YOUR Workplace
DESCRIPTION:KHA MEMBERS: CLICK HERE FOR ZOOM DETAILS\n\nThe health care industry is difficult on a regular day and even more challenges are present today. Our industry is facing constant change\, which can be intimidating!  Our own company has had to adapt quickly and face challenges we never imagined. Let’s take a look at science\, data and examples that show us how to lead change in YOUR workplace in a positive and effective way! \nThis presentation will help you: \n\nLearn the science behind change management\nUnderstand the brain’s anatomy and the effect is has on change\nGet your team on board with necessary changes in the workplace\n\nSpeaker:\nBrian Garver\nSenior Vice President\nKeyBridge Medical Revenue Care \nFor Zoom information\, please contact Lauren Wheatley at KHA at lwheatley@kyha.com.
URL:https://www.kyha.com/event/kha-town-hall-change-like-a-champ-effective-change-management-in-your-workplace/
CATEGORIES:Town Hall
ATTACH;FMTTYPE=image/webp:https://www.kyha.com/wp-content/uploads/2023/12/town-hall-listing-image.webp
END:VEVENT
BEGIN:VEVENT
DTSTART;TZID=America/Kentucky/Louisville:20260422T140000
DTEND;TZID=America/Kentucky/Louisville:20260422T150000
DTSTAMP:20260423T134151
CREATED:20260310T143032Z
LAST-MODIFIED:20260310T143032Z
UID:37166-1776866400-1776870000@www.kyha.com
SUMMARY:KHA Town Hall: Pharmacy in 2026: What's Coming\, What it Costs\, and How Employers Prepare
DESCRIPTION:During this session\, our speaker will help hospitals manage risk and discuss how to control pharmacy spend and plan for what is coming. \n\nKHA MEMBERS: CLICK HERE FOR ZOOM DETAILS\n\nTarget Audience: HR leaders and CFOs \nSpeaker: Dr. Stacey Bane\, PharmD\nDirector of Pharmacy Solutions\nHouchens Insurance Group
URL:https://www.kyha.com/event/kha-town-hall-pharmacy-in-2026-whats-coming-what-it-costs-and-how-employers-prepare/
CATEGORIES:Town Hall
ATTACH;FMTTYPE=image/webp:https://www.kyha.com/wp-content/uploads/2023/12/town-hall-listing-image.webp
END:VEVENT
BEGIN:VEVENT
DTSTART;TZID=America/Kentucky/Louisville:20260423T140000
DTEND;TZID=America/Kentucky/Louisville:20260423T143000
DTSTAMP:20260423T134151
CREATED:20260224T180749Z
LAST-MODIFIED:20260226T155422Z
UID:36946-1776952800-1776954600@www.kyha.com
SUMMARY:KHA Town Hall: MCAG's Class Action Settlement Recovery
DESCRIPTION:During this session\, MCAG will provide an overview of their Settlement Recovery Service (SRS) and how it helps organizations identify and recover settlement funds they may be entitled to. This session will provide an overview of upcoming settlements relevant to the health care industry\, how to register for MCAG’s service\, filing deadlines\, data requirements\, and potential timeframes for payment from each settlement. \n\nKHA MEMBERS: CLICK HERE FOR ZOOM DETAILS\n\nTarget Audience: Hospital senior executive and finance leaders \nSpeaker: Adam Schmidt\, Vice President\, Business Development\, MCAG \n 
URL:https://www.kyha.com/event/kha-town-hall-mcags-class-action-settlement-recovery/
CATEGORIES:Town Hall
ATTACH;FMTTYPE=image/webp:https://www.kyha.com/wp-content/uploads/2023/12/town-hall-listing-image.webp
END:VEVENT
END:VCALENDAR