BEGIN:VCALENDAR
VERSION:2.0
PRODID:-//KYHA - ECPv6.15.20//NONSGML v1.0//EN
CALSCALE:GREGORIAN
METHOD:PUBLISH
X-ORIGINAL-URL:https://www.kyha.com
X-WR-CALDESC:Events for KYHA
REFRESH-INTERVAL;VALUE=DURATION:PT1H
X-Robots-Tag:noindex
X-PUBLISHED-TTL:PT1H
BEGIN:VTIMEZONE
TZID:America/Kentucky/Louisville
BEGIN:DAYLIGHT
TZOFFSETFROM:-0500
TZOFFSETTO:-0400
TZNAME:EDT
DTSTART:20230312T070000
END:DAYLIGHT
BEGIN:STANDARD
TZOFFSETFROM:-0400
TZOFFSETTO:-0500
TZNAME:EST
DTSTART:20231105T060000
END:STANDARD
BEGIN:DAYLIGHT
TZOFFSETFROM:-0500
TZOFFSETTO:-0400
TZNAME:EDT
DTSTART:20240310T070000
END:DAYLIGHT
BEGIN:STANDARD
TZOFFSETFROM:-0400
TZOFFSETTO:-0500
TZNAME:EST
DTSTART:20241103T060000
END:STANDARD
BEGIN:DAYLIGHT
TZOFFSETFROM:-0500
TZOFFSETTO:-0400
TZNAME:EDT
DTSTART:20250309T070000
END:DAYLIGHT
BEGIN:STANDARD
TZOFFSETFROM:-0400
TZOFFSETTO:-0500
TZNAME:EST
DTSTART:20251102T060000
END:STANDARD
END:VTIMEZONE
BEGIN:VEVENT
DTSTART;TZID=America/Kentucky/Louisville:20241203T150000
DTEND;TZID=America/Kentucky/Louisville:20241203T160000
DTSTAMP:20260423T073307
CREATED:20241101T211115Z
LAST-MODIFIED:20241126T171804Z
UID:26628-1733238000-1733241600@www.kyha.com
SUMMARY:KHA Town Hall: Kentucky TB Testing Regulations
DESCRIPTION:Please join KHA on Tuesday\, December 3 at 3:00 p.m. ET where Deb Campbell\, KHA VP of Clinical Strategy\, will welcome Emily Anderson from the KY Department of Public Health TB program for an update and review of current Kentucky TB regulation. At this Town Hall\, Emily will clarify the difference between CDC recommendation\, OSHA guidance and what our state program is currently requiring. \nSpeaker:\nEmily A. Anderson\, BSN\, RN\nTB PROGRAM CONTROLLER/MANAGER\nKentucky Department for Public Health\nDivision of Epidemiology and Health Planning (EPI) \nFor Zoom information\, please contact Claire Riley at KHA at criley@kyha.com.
URL:https://www.kyha.com/event/kha-town-hall-kentucky-tb-testing-regulations/
CATEGORIES:Town Hall
ATTACH;FMTTYPE=image/webp:https://www.kyha.com/wp-content/uploads/2023/12/town-hall-listing-image.webp
END:VEVENT
BEGIN:VEVENT
DTSTART;TZID=America/Kentucky/Louisville:20241210T150000
DTEND;TZID=America/Kentucky/Louisville:20241210T160000
DTSTAMP:20260423T073307
CREATED:20241114T142357Z
LAST-MODIFIED:20241126T170308Z
UID:26836-1733842800-1733846400@www.kyha.com
SUMMARY:KHA Town Hall: DRG Validation - Proactive and Retroactive Strategies
DESCRIPTION:Please join KHA on Tuesday\, December 10 at 3:00 p.m. ET for a virtual Town Hall meeting on DRG Validation – Proactive and Retroactive Strategies. \nThis presentation will focus on the clinical validation process and the importance of physician education on accurate documentation. It will also review the approach to clinical validation denials and determining support for appeals. \nSpeaker:\nDr. Annie Akkara\nFairCode \nFor Zoom information\, please contact Claire Riley at KHA at criley@kyha.com.
URL:https://www.kyha.com/event/kha-town-hall-drg-validation-proactive-and-retroactive-strategies/
CATEGORIES:Town Hall
ATTACH;FMTTYPE=image/webp:https://www.kyha.com/wp-content/uploads/2023/12/town-hall-listing-image.webp
END:VEVENT
END:VCALENDAR