BEGIN:VCALENDAR
VERSION:2.0
PRODID:-//KYHA - ECPv6.15.20//NONSGML v1.0//EN
CALSCALE:GREGORIAN
METHOD:PUBLISH
X-WR-CALNAME:KYHA
X-ORIGINAL-URL:https://www.kyha.com
X-WR-CALDESC:Events for KYHA
REFRESH-INTERVAL;VALUE=DURATION:PT1H
X-Robots-Tag:noindex
X-PUBLISHED-TTL:PT1H
BEGIN:VTIMEZONE
TZID:America/Kentucky/Louisville
BEGIN:DAYLIGHT
TZOFFSETFROM:-0500
TZOFFSETTO:-0400
TZNAME:EDT
DTSTART:20230312T070000
END:DAYLIGHT
BEGIN:STANDARD
TZOFFSETFROM:-0400
TZOFFSETTO:-0500
TZNAME:EST
DTSTART:20231105T060000
END:STANDARD
BEGIN:DAYLIGHT
TZOFFSETFROM:-0500
TZOFFSETTO:-0400
TZNAME:EDT
DTSTART:20240310T070000
END:DAYLIGHT
BEGIN:STANDARD
TZOFFSETFROM:-0400
TZOFFSETTO:-0500
TZNAME:EST
DTSTART:20241103T060000
END:STANDARD
BEGIN:DAYLIGHT
TZOFFSETFROM:-0500
TZOFFSETTO:-0400
TZNAME:EDT
DTSTART:20250309T070000
END:DAYLIGHT
BEGIN:STANDARD
TZOFFSETFROM:-0400
TZOFFSETTO:-0500
TZNAME:EST
DTSTART:20251102T060000
END:STANDARD
END:VTIMEZONE
BEGIN:VEVENT
DTSTART;TZID=America/Kentucky/Louisville:20240401T090000
DTEND;TZID=America/Kentucky/Louisville:20240401T100000
DTSTAMP:20260423T051939
CREATED:20240326T210051Z
LAST-MODIFIED:20240326T210051Z
UID:19994-1711962000-1711965600@www.kyha.com
SUMMARY:Kentucky Community and Technical College System’s Going Pro Signing Day
DESCRIPTION:KHA invites you to join the Kentucky Community and Technical College System’s Going Pro Signing Day at the Capitol Rotunda on April 1 from 9:00 a.m. to 10:00 a.m. (ET) to celebrate the start of career signing season in the Commonwealth. Senior leaders from some of KHA’s statewide partners will speak about the importance of skilled talent pipelines in Kentucky. Networking in the Mezzanine will take place after the event.
URL:https://www.kyha.com/event/kentucky-community-and-technical-college-systems-going-pro-signing-day/
CATEGORIES:Other
ATTACH;FMTTYPE=image/webp:https://www.kyha.com/wp-content/uploads/2024/03/GoingPro.webp
END:VEVENT
BEGIN:VEVENT
DTSTART;VALUE=DATE:20240403
DTEND;VALUE=DATE:20240404
DTSTAMP:20260423T051939
CREATED:20240205T135135Z
LAST-MODIFIED:20240607T190806Z
UID:17738-1712102400-1712188799@www.kyha.com
SUMMARY:KHA Spring Listening Tour: Saint Joseph London
DESCRIPTION:Join KHA for a special spring listening tour\, where the KHA team is traveling around the state to connect directly with members! This new\, member-focused meeting is offered only in person to allow for open discussion on insurer accountability\, an interactive member discussion session\, and a wrap-up report from KHA. Please attend any of the dates/times that work best for your schedule. \n\n\n\nReview the agenda\n\n\n\nApril 3\, 2024\nSaint Joseph London\nLower Level Classrooms\n1001 Saint Joseph Lane\nLondon \n\nKHA MEMBERS: CLICK HERE TO REGISTER\n\nNon-members: Please contact Claire Riley\, MPH\, Director\, Strategy and Program Development for more information. 
URL:https://www.kyha.com/event/kha-spring-listening-tour-saint-joseph-london/
CATEGORIES:Other
END:VEVENT
BEGIN:VEVENT
DTSTART;VALUE=DATE:20240405
DTEND;VALUE=DATE:20240406
DTSTAMP:20260423T051939
CREATED:20240205T135345Z
LAST-MODIFIED:20240607T190801Z
UID:17740-1712275200-1712361599@www.kyha.com
SUMMARY:KHA Spring Listening Tour: Baptist Health Deaconess Madisonville
DESCRIPTION:Join KHA for a special spring listening tour\, where the KHA team is traveling around the state to connect directly with members! This new\, member-focused meeting is offered only in person to allow for open discussion on insurer accountability\, an interactive member discussion session\, and a wrap-up report from KHA. Please attend any of the dates/times that work best for your schedule. \n\nReview the agenda\n\nApril 5\, 2024\nBaptist Health Deaconess Madisonville\nLoman Trover Conference\nRoom\n200 Clinic Drive\nMadisonville \n\nKHA MEMBERS: CLICK HERE TO REGISTER\n\nNon-members: Please contact Claire Riley\, MPH\, Director\, Strategy and Program Development for more information. 
URL:https://www.kyha.com/event/kha-spring-listening-tour-baptist-health-deaconess-madisonville/
CATEGORIES:Other
END:VEVENT
BEGIN:VEVENT
DTSTART;VALUE=DATE:20240412
DTEND;VALUE=DATE:20240413
DTSTAMP:20260423T051939
CREATED:20240205T135638Z
LAST-MODIFIED:20240607T190755Z
UID:17744-1712880000-1712966399@www.kyha.com
SUMMARY:KHA Spring Listening Tour: Encompass Health Cardinal Hill Rehabilitation Hospital
DESCRIPTION:Join KHA for a special spring listening tour\, where the KHA team is traveling around the state to connect directly with members! This new\, member-focused meeting is offered only in person to allow for open discussion on insurer accountability\, an interactive member discussion session\, and a wrap-up report from KHA. Please attend any of the dates/times that work best for your schedule. \n\nReview the agenda\n\nApril 12\, 2024\nEncompass Health Cardinal Hill Rehabilitation Hospital\n2050 Versailles Road\nLexington \n\nKHA MEMBERS: CLICK HERE TO REGISTER\n\nNon-members: Please contact Claire Riley\, MPH\, Director\, Strategy and Program Development for more information. 
URL:https://www.kyha.com/event/kha-spring-listening-tour-encompass-health-cardinal-hill-rehabilitation-hospital/
CATEGORIES:Other
END:VEVENT
BEGIN:VEVENT
DTSTART;TZID=America/Kentucky/Louisville:20240427T100000
DTEND;TZID=America/Kentucky/Louisville:20240427T140000
DTSTAMP:20260423T051939
CREATED:20240409T171334Z
LAST-MODIFIED:20240409T171334Z
UID:20249-1714212000-1714226400@www.kyha.com
SUMMARY:National Prescription Drug Take Back Day
DESCRIPTION:Keep them safe.  Clean them out.  Take them back.  The US Drug Enforcement Administration (DEA) promotes this biannual National Prescription Take Back campaign\, occurring every April and October. This initiative allows for safe and anonymous means to dispose of unused or expired prescription medications in law enforcement locations all over the United States.  There is hope that by the removal of these medications from homes all across the nation\, it will lessen the potential for pollution\, environmental effects impacting public health\, as well as greatly decreasing the potential of misuse and possible tragic outcomes when found in the wrong hands\, such as children\, pets and teens or adults.  It may very well be the first line of defense\, for some\, in the prevention of opioid use disorder\, overdose and overdose deaths. \nBy going to www.dea.gov/takebackday\, those interested can search for collection sites nearest to their chosen location.  For those who may not be able to make it on April 27\, 2024\, there are at least 193 permanent prescription drug disposal locations in Kentucky that offer year-round services for medication disposal.  Kentucky locations by county can be found on the Kentucky Office of Drug Control Policy website (Prescription Drug Disposal Locations – Office of Drug Control Policy (ky.gov).  Your local waste disposal provider may offer guidance on how to properly dispose of medications if unable to attend a take back event and there is an FDA approved flush list that is used only as a next best option for potentially dangerous drugs that\, for some\, may be harmful with even a single dose (Drug Disposal: FDA’s Flush List for Certain Medicines | FDA). \nSo how and where can you promote proper medication disposal in the workplace\, home\, or community?  Maybe it is simply taking inventory of your personal medicine cabinet at home or those of extended family.  Maybe it is incorporating disposal training and education with your patients at discharge.  Wherever that may be\, as one large team\, protecting our fellow citizens\, patients\, family\, and environment\, we can spread the word regarding safe medication handling. \n  \n  \n 
URL:https://www.kyha.com/event/national-prescription-drug-take-back-day/
CATEGORIES:Other
ATTACH;FMTTYPE=image/webp:https://www.kyha.com/wp-content/uploads/2024/04/dea-national-prescription-drug-take-back-day-events.webp
END:VEVENT
END:VCALENDAR