BEGIN:VCALENDAR
VERSION:2.0
PRODID:-//KYHA - ECPv6.15.20//NONSGML v1.0//EN
CALSCALE:GREGORIAN
METHOD:PUBLISH
X-WR-CALNAME:KYHA
X-ORIGINAL-URL:https://www.kyha.com
X-WR-CALDESC:Events for KYHA
REFRESH-INTERVAL;VALUE=DURATION:PT1H
X-Robots-Tag:noindex
X-PUBLISHED-TTL:PT1H
BEGIN:VTIMEZONE
TZID:America/Kentucky/Louisville
BEGIN:DAYLIGHT
TZOFFSETFROM:-0500
TZOFFSETTO:-0400
TZNAME:EDT
DTSTART:20230312T070000
END:DAYLIGHT
BEGIN:STANDARD
TZOFFSETFROM:-0400
TZOFFSETTO:-0500
TZNAME:EST
DTSTART:20231105T060000
END:STANDARD
BEGIN:DAYLIGHT
TZOFFSETFROM:-0500
TZOFFSETTO:-0400
TZNAME:EDT
DTSTART:20240310T070000
END:DAYLIGHT
BEGIN:STANDARD
TZOFFSETFROM:-0400
TZOFFSETTO:-0500
TZNAME:EST
DTSTART:20241103T060000
END:STANDARD
BEGIN:DAYLIGHT
TZOFFSETFROM:-0500
TZOFFSETTO:-0400
TZNAME:EDT
DTSTART:20250309T070000
END:DAYLIGHT
BEGIN:STANDARD
TZOFFSETFROM:-0400
TZOFFSETTO:-0500
TZNAME:EST
DTSTART:20251102T060000
END:STANDARD
END:VTIMEZONE
BEGIN:VEVENT
DTSTART;TZID=America/Kentucky/Louisville:20240301T183000
DTEND;TZID=America/Kentucky/Louisville:20240301T183000
DTSTAMP:20260423T065653
CREATED:20240208T141219Z
LAST-MODIFIED:20240208T143455Z
UID:18197-1709317800-1709317800@www.kyha.com
SUMMARY:Colon Cancer Prevention Project’s Bottoms Up Bash
DESCRIPTION:Each year\, the Colon Cancer Prevention Project hosts the Bottoms Up Bash on the first Friday in March\, as an opportunity for the community to come together in honor of Colon Cancer Awareness Month. \nJoin the Colon Cancer Prevention Project’s Bottoms Up Bash on March 1 at 6:30 p.m. (ET) at The Olmstead in Louisville. Wear blue and enjoy dinner\, drinks\, dancing\, and a fun silent auction. This event raises money and awareness about this very preventable disease. With over 300 attendees and incredible community partners\, The Bottoms Up Bash raises more than $100\,000 to fund the project’s vital programming and allows the project to lead the nation in colon cancer prevention efforts. \n\nBrochure
URL:https://www.kyha.com/event/colon-cancer-prevention-projects-bottoms-up-bash/
CATEGORIES:Other
ATTACH;FMTTYPE=image/webp:https://www.kyha.com/wp-content/uploads/2024/02/colon-cancer-prevention-project-events.webp
END:VEVENT
BEGIN:VEVENT
DTSTART;TZID=America/Kentucky/Louisville:20240306T100700
DTEND;TZID=America/Kentucky/Louisville:20240306T101000
DTSTAMP:20260423T065653
CREATED:20240216T133936Z
LAST-MODIFIED:20240216T133936Z
UID:18385-1709719620-1709719800@www.kyha.com
SUMMARY:Annual Kentucky Statewide Tornado Drill
DESCRIPTION:The Annual Kentucky Statewide Tornado Drill will be conducted Wednesday\, March 6 at 10:07 a.m. (ET). \n\nMore details\nTornado Safety
URL:https://www.kyha.com/event/annual-kentucky-statewide-tornado-drill/
CATEGORIES:Other
END:VEVENT
BEGIN:VEVENT
DTSTART;TZID=America/Kentucky/Louisville:20240319T100000
DTEND;TZID=America/Kentucky/Louisville:20240319T130000
DTSTAMP:20260423T065653
CREATED:20240311T123634Z
LAST-MODIFIED:20240311T123634Z
UID:19245-1710842400-1710853200@www.kyha.com
SUMMARY:Kentucky Association for Healthcare Recruitment Quarterly Meeting
DESCRIPTION:The Kentucky Association for Healthcare Recruitment (KAHCR) will meet at KHA Headquarters in Louisville on March 19 from 10:00 a.m. to 1:00 p.m. (ET). The meeting includes a great lineup of presenters for all hospital human resources (HR) and operational leaders responsible for culture and clinical leadership and those who want to get new ideas on how to enhance workflow. \nLunch will be provided and KAHCR will hold a Business Meeting during this event. \nSpeakers:\nMark Vogt “Cultivating a Culture of Excellence: Lessons from Galen College of Nursing” \nLearning Objectives:\n• Examine the significance oof creating a positive and engaging environment for employees to thrive and succeed.\n• Explore the critical elements of culture-building strategies\, including leadership\, creativity\, customer service\, and attention to detail.\n• Recognize the challenges and opportunities in scaling organizations while maintaining a strong organizational culture. \n  \nSt Elizabeth Healthcare: “Optimizing Nurse Staffing through Care Model Redesign”\nLearning Objectives: \n\nReview Staffing Shortage in the U.S. post-pandemic\nInnovation in Care Model Design and Thinking\nAssociate Buy in\nEducation and Position Prep\nPilot Program and Starting Small\nResults and Unintended by Exciting Consequences\nIncentives to Expand\nSustainability\n\nRegistration
URL:https://www.kyha.com/event/kentucky-association-for-healthcare-recruitment-quarterly-meeting/
LOCATION:KHA Headquarters\, 2501 Nelson Miller Pkwy\, Louisville\, KY\, 40223\, United States
CATEGORIES:Other
ATTACH;FMTTYPE=image/webp:https://www.kyha.com/wp-content/uploads/2024/03/kahcr-events.webp
END:VEVENT
END:VCALENDAR