BEGIN:VCALENDAR
VERSION:2.0
PRODID:-//KYHA - ECPv6.15.20//NONSGML v1.0//EN
CALSCALE:GREGORIAN
METHOD:PUBLISH
X-WR-CALNAME:KYHA
X-ORIGINAL-URL:https://www.kyha.com
X-WR-CALDESC:Events for KYHA
REFRESH-INTERVAL;VALUE=DURATION:PT1H
X-Robots-Tag:noindex
X-PUBLISHED-TTL:PT1H
BEGIN:VTIMEZONE
TZID:America/Kentucky/Louisville
BEGIN:DAYLIGHT
TZOFFSETFROM:-0500
TZOFFSETTO:-0400
TZNAME:EDT
DTSTART:20220313T070000
END:DAYLIGHT
BEGIN:STANDARD
TZOFFSETFROM:-0400
TZOFFSETTO:-0500
TZNAME:EST
DTSTART:20221106T060000
END:STANDARD
BEGIN:DAYLIGHT
TZOFFSETFROM:-0500
TZOFFSETTO:-0400
TZNAME:EDT
DTSTART:20230312T070000
END:DAYLIGHT
BEGIN:STANDARD
TZOFFSETFROM:-0400
TZOFFSETTO:-0500
TZNAME:EST
DTSTART:20231105T060000
END:STANDARD
BEGIN:DAYLIGHT
TZOFFSETFROM:-0500
TZOFFSETTO:-0400
TZNAME:EDT
DTSTART:20240310T070000
END:DAYLIGHT
BEGIN:STANDARD
TZOFFSETFROM:-0400
TZOFFSETTO:-0500
TZNAME:EST
DTSTART:20241103T060000
END:STANDARD
END:VTIMEZONE
BEGIN:VEVENT
DTSTART;TZID=America/Kentucky/Louisville:20231122T120000
DTEND;TZID=America/Kentucky/Louisville:20231124T170000
DTSTAMP:20260420T141047
CREATED:20231110T202118Z
LAST-MODIFIED:20231110T203500Z
UID:11223-1700654400-1700845200@www.kyha.com
SUMMARY:KHA Office Closed for Thanksgiving
DESCRIPTION:The KHA office will close at noon ET on Wednesday\, November 22\, and reopen on Monday\, November 27
URL:https://www.kyha.com/event/kha-office-closed-for-thanksgiving/
CATEGORIES:Office Closings
END:VEVENT
END:VCALENDAR