BEGIN:VCALENDAR
VERSION:2.0
PRODID:-//KYHA - ECPv6.15.20//NONSGML v1.0//EN
CALSCALE:GREGORIAN
METHOD:PUBLISH
X-ORIGINAL-URL:https://www.kyha.com
X-WR-CALDESC:Events for KYHA
REFRESH-INTERVAL;VALUE=DURATION:PT1H
X-Robots-Tag:noindex
X-PUBLISHED-TTL:PT1H
BEGIN:VTIMEZONE
TZID:America/Kentucky/Louisville
BEGIN:DAYLIGHT
TZOFFSETFROM:-0500
TZOFFSETTO:-0400
TZNAME:EDT
DTSTART:20240310T070000
END:DAYLIGHT
BEGIN:STANDARD
TZOFFSETFROM:-0400
TZOFFSETTO:-0500
TZNAME:EST
DTSTART:20241103T060000
END:STANDARD
BEGIN:DAYLIGHT
TZOFFSETFROM:-0500
TZOFFSETTO:-0400
TZNAME:EDT
DTSTART:20250309T070000
END:DAYLIGHT
BEGIN:STANDARD
TZOFFSETFROM:-0400
TZOFFSETTO:-0500
TZNAME:EST
DTSTART:20251102T060000
END:STANDARD
BEGIN:DAYLIGHT
TZOFFSETFROM:-0500
TZOFFSETTO:-0400
TZNAME:EDT
DTSTART:20260308T070000
END:DAYLIGHT
BEGIN:STANDARD
TZOFFSETFROM:-0400
TZOFFSETTO:-0500
TZNAME:EST
DTSTART:20261101T060000
END:STANDARD
END:VTIMEZONE
BEGIN:VEVENT
DTSTART;TZID=America/Kentucky/Louisville:20251209T110000
DTEND;TZID=America/Kentucky/Louisville:20251209T120000
DTSTAMP:20260421T001807
CREATED:20251119T153509Z
LAST-MODIFIED:20251119T153509Z
UID:34273-1765278000-1765281600@www.kyha.com
SUMMARY:KYSOS ED Bridge Webinar: Help the Helper; A Self-Care Discussion
DESCRIPTION:For information on how to join the webinar\, please contact Shanna Jaggers at sjaggers@kyha.com.
URL:https://www.kyha.com/event/kysos-ed-bridge-webinar-help-the-helper-a-self-care-discussion/
CATEGORIES:KYSOS
ATTACH;FMTTYPE=image/webp:https://www.kyha.com/wp-content/uploads/2023/09/kysos-news.webp
END:VEVENT
END:VCALENDAR