BEGIN:VCALENDAR
VERSION:2.0
PRODID:-//KYHA - ECPv6.15.20//NONSGML v1.0//EN
CALSCALE:GREGORIAN
METHOD:PUBLISH
X-WR-CALNAME:KYHA
X-ORIGINAL-URL:https://www.kyha.com
X-WR-CALDESC:Events for KYHA
REFRESH-INTERVAL;VALUE=DURATION:PT1H
X-Robots-Tag:noindex
X-PUBLISHED-TTL:PT1H
BEGIN:VTIMEZONE
TZID:America/Kentucky/Louisville
BEGIN:DAYLIGHT
TZOFFSETFROM:-0500
TZOFFSETTO:-0400
TZNAME:EDT
DTSTART:20240310T070000
END:DAYLIGHT
BEGIN:STANDARD
TZOFFSETFROM:-0400
TZOFFSETTO:-0500
TZNAME:EST
DTSTART:20241103T060000
END:STANDARD
BEGIN:DAYLIGHT
TZOFFSETFROM:-0500
TZOFFSETTO:-0400
TZNAME:EDT
DTSTART:20250309T070000
END:DAYLIGHT
BEGIN:STANDARD
TZOFFSETFROM:-0400
TZOFFSETTO:-0500
TZNAME:EST
DTSTART:20251102T060000
END:STANDARD
BEGIN:DAYLIGHT
TZOFFSETFROM:-0500
TZOFFSETTO:-0400
TZNAME:EDT
DTSTART:20260308T070000
END:DAYLIGHT
BEGIN:STANDARD
TZOFFSETFROM:-0400
TZOFFSETTO:-0500
TZNAME:EST
DTSTART:20261101T060000
END:STANDARD
END:VTIMEZONE
BEGIN:VEVENT
DTSTART;TZID=America/Kentucky/Louisville:20250313T110000
DTEND;TZID=America/Kentucky/Louisville:20250313T120000
DTSTAMP:20260421T155216
CREATED:20250303T143522Z
LAST-MODIFIED:20250303T143522Z
UID:28538-1741863600-1741867200@www.kyha.com
SUMMARY:KYSOS ED Bridge Webinar
DESCRIPTION:The KYSOS Emergency Department (ED) Bridge program will be presenting an educational webinar on March 13\, 2025\, from 11 am to 12 pm ET in conjunction with the Kentucky Association of Counties (KACo).  Guest speakers\, Melissa Koncar\, Robyn Helton\, and Chris Garrison will describe the role of a Peer Support Specialist (PSS) and explain an ED Bridge program. This is a wonderful opportunity to showcase the KYSOS ED Bridge program and to help spread the word about the importance of peer support specialists in Kentucky’s emergency departments. \nPlease contact Mary Beth Ecken at mecken@kyha.com for details on how to join the meeting.
URL:https://www.kyha.com/event/kysos-ed-bridge-webinar/
CATEGORIES:KYSOS
ATTACH;FMTTYPE=image/webp:https://www.kyha.com/wp-content/uploads/2023/09/kysos-news.webp
END:VEVENT
END:VCALENDAR