BEGIN:VCALENDAR
VERSION:2.0
PRODID:-//KYHA - ECPv6.15.20//NONSGML v1.0//EN
CALSCALE:GREGORIAN
METHOD:PUBLISH
X-WR-CALNAME:KYHA
X-ORIGINAL-URL:https://www.kyha.com
X-WR-CALDESC:Events for KYHA
REFRESH-INTERVAL;VALUE=DURATION:PT1H
X-Robots-Tag:noindex
X-PUBLISHED-TTL:PT1H
BEGIN:VTIMEZONE
TZID:America/Kentucky/Louisville
BEGIN:DAYLIGHT
TZOFFSETFROM:-0500
TZOFFSETTO:-0400
TZNAME:EDT
DTSTART:20240310T070000
END:DAYLIGHT
BEGIN:STANDARD
TZOFFSETFROM:-0400
TZOFFSETTO:-0500
TZNAME:EST
DTSTART:20241103T060000
END:STANDARD
BEGIN:DAYLIGHT
TZOFFSETFROM:-0500
TZOFFSETTO:-0400
TZNAME:EDT
DTSTART:20250309T070000
END:DAYLIGHT
BEGIN:STANDARD
TZOFFSETFROM:-0400
TZOFFSETTO:-0500
TZNAME:EST
DTSTART:20251102T060000
END:STANDARD
BEGIN:DAYLIGHT
TZOFFSETFROM:-0500
TZOFFSETTO:-0400
TZNAME:EDT
DTSTART:20260308T070000
END:DAYLIGHT
BEGIN:STANDARD
TZOFFSETFROM:-0400
TZOFFSETTO:-0500
TZNAME:EST
DTSTART:20261101T060000
END:STANDARD
END:VTIMEZONE
BEGIN:VEVENT
DTSTART;TZID=America/Kentucky/Louisville:20250204T120000
DTEND;TZID=America/Kentucky/Louisville:20250204T130000
DTSTAMP:20260421T173412
CREATED:20241218T212815Z
LAST-MODIFIED:20250128T183529Z
UID:27611-1738670400-1738674000@www.kyha.com
SUMMARY:KYSOS ED Bridge Webinar: Treatment of Stimulant Use Disorder and the Role of ED Providers
DESCRIPTION:Please join the KY SOS ED Bridge team\, along with Dr. Danielle Anderson\, for a webinar presentation on Stimulant Use Disorder (part two). \nDr. Danielle Anderson is an Addiction Medicine Specialist for University of Kentucky Healthcare.  She will be discussing available treatments for stimulant use disorder\, providing recommendations for patient-provider discussions and talk through barriers to treatment. \nThe KY SOS ED Bridge team is grateful for Dr. Anderson presenting on this important topic.  We are looking forward to the presentation and hope you can attend! \nPlease contact Mary Beth Ecken at mecken@kyha.com for details on how to join the meeting.
URL:https://www.kyha.com/event/27611/
CATEGORIES:KYSOS,Webinar
ATTACH;FMTTYPE=image/webp:https://www.kyha.com/wp-content/uploads/2023/09/kysos-news.webp
END:VEVENT
END:VCALENDAR