BEGIN:VCALENDAR
VERSION:2.0
PRODID:-//KYHA - ECPv6.15.20//NONSGML v1.0//EN
CALSCALE:GREGORIAN
METHOD:PUBLISH
X-WR-CALNAME:KYHA
X-ORIGINAL-URL:https://www.kyha.com
X-WR-CALDESC:Events for KYHA
REFRESH-INTERVAL;VALUE=DURATION:PT1H
X-Robots-Tag:noindex
X-PUBLISHED-TTL:PT1H
BEGIN:VTIMEZONE
TZID:America/Kentucky/Louisville
BEGIN:DAYLIGHT
TZOFFSETFROM:-0500
TZOFFSETTO:-0400
TZNAME:EDT
DTSTART:20240310T070000
END:DAYLIGHT
BEGIN:STANDARD
TZOFFSETFROM:-0400
TZOFFSETTO:-0500
TZNAME:EST
DTSTART:20241103T060000
END:STANDARD
BEGIN:DAYLIGHT
TZOFFSETFROM:-0500
TZOFFSETTO:-0400
TZNAME:EDT
DTSTART:20250309T070000
END:DAYLIGHT
BEGIN:STANDARD
TZOFFSETFROM:-0400
TZOFFSETTO:-0500
TZNAME:EST
DTSTART:20251102T060000
END:STANDARD
BEGIN:DAYLIGHT
TZOFFSETFROM:-0500
TZOFFSETTO:-0400
TZNAME:EDT
DTSTART:20260308T070000
END:DAYLIGHT
BEGIN:STANDARD
TZOFFSETFROM:-0400
TZOFFSETTO:-0500
TZNAME:EST
DTSTART:20261101T060000
END:STANDARD
END:VTIMEZONE
BEGIN:VEVENT
DTSTART;TZID=America/Kentucky/Louisville:20250624T143000
DTEND;TZID=America/Kentucky/Louisville:20250624T153000
DTSTAMP:20260421T190719
CREATED:20250616T152849Z
LAST-MODIFIED:20250616T152849Z
UID:31113-1750775400-1750779000@www.kyha.com
SUMMARY:Webinar: $2.8 Billion BCBS Provider Settlement - What You Don’t Know Will Cost You
DESCRIPTION:As your trusted advocate\, we’ve been closely monitoring the developments surrounding the $2.8 billion Blue Cross Blue Shield (BCBS) Provider Settlement. This landmark case addresses allegations that BCBS plans engaged in anti-competitive practices\, leading to reduced reimbursements for healthcare providers. Through our partnership with Managed Care Holdings dba MCAG\, we invite our members to join an exclusive webinar hosted by MCAG regarding this settlement and what it means for your organization. \n\nClick here to register\n\nDate: Tuesday\, June 24\, 2025\nTime: 2:30 PM (ET)\nLocation: Online (link provided upon registration) \nDuring this session\, we will cover: \n\nIntroduction to MCAG\nOverview of the BCBS Provider Settlement\nKey Challenges in Filing\nStrategic Importance of Injunctive Relief\nWhy MCAG is Your Best Option\n\nThis settlement is a game-changing moment for the healthcare industry that could significantly impact your operations and bottom line. Don’t miss crucial insights from the legal experts shaping this monumental settlement.
URL:https://www.kyha.com/event/webinar-2-8-billion-bcbs-provider-settlement-what-you-dont-know-will-cost-you/
CATEGORIES:Education
ATTACH;FMTTYPE=image/webp:https://www.kyha.com/wp-content/uploads/2023/11/webinar-listing-image.webp
END:VEVENT
END:VCALENDAR