BEGIN:VCALENDAR
VERSION:2.0
PRODID:-//KYHA - ECPv6.15.20//NONSGML v1.0//EN
CALSCALE:GREGORIAN
METHOD:PUBLISH
X-WR-CALNAME:KYHA
X-ORIGINAL-URL:https://www.kyha.com
X-WR-CALDESC:Events for KYHA
REFRESH-INTERVAL;VALUE=DURATION:PT1H
X-Robots-Tag:noindex
X-PUBLISHED-TTL:PT1H
BEGIN:VTIMEZONE
TZID:America/Kentucky/Louisville
BEGIN:DAYLIGHT
TZOFFSETFROM:-0500
TZOFFSETTO:-0400
TZNAME:EDT
DTSTART:20240310T070000
END:DAYLIGHT
BEGIN:STANDARD
TZOFFSETFROM:-0400
TZOFFSETTO:-0500
TZNAME:EST
DTSTART:20241103T060000
END:STANDARD
BEGIN:DAYLIGHT
TZOFFSETFROM:-0500
TZOFFSETTO:-0400
TZNAME:EDT
DTSTART:20250309T070000
END:DAYLIGHT
BEGIN:STANDARD
TZOFFSETFROM:-0400
TZOFFSETTO:-0500
TZNAME:EST
DTSTART:20251102T060000
END:STANDARD
BEGIN:DAYLIGHT
TZOFFSETFROM:-0500
TZOFFSETTO:-0400
TZNAME:EDT
DTSTART:20260308T070000
END:DAYLIGHT
BEGIN:STANDARD
TZOFFSETFROM:-0400
TZOFFSETTO:-0500
TZNAME:EST
DTSTART:20261101T060000
END:STANDARD
END:VTIMEZONE
BEGIN:VEVENT
DTSTART;VALUE=DATE:20250519
DTEND;VALUE=DATE:20250520
DTSTAMP:20260421T173206
CREATED:20250220T135059Z
LAST-MODIFIED:20250220T135243Z
UID:28381-1747612800-1747699199@www.kyha.com
SUMMARY:KHA Health Care Workforce Summit
DESCRIPTION:KHA’s Health Care Workforce Summit will convene industry leaders to explore effective strategies for engaging hospital team members and local communities. Join in the collaboration and learn unique solutions for enhancing community engagement in health care. This conference is perfect for C-suite executives\, education\, and HR professionals and department leaders. \nSHRM and HRCI continuing education credits will be applied for this event. \nFor more information\, contact JP Hamm\, JD at jhamm@kyha.com.
URL:https://www.kyha.com/event/kha-health-care-workforce-summit/
LOCATION:Central Bank Center\, Lexington\, Kentucky
CATEGORIES:Education
END:VEVENT
END:VCALENDAR