BEGIN:VCALENDAR
VERSION:2.0
PRODID:-//KYHA - ECPv6.15.20//NONSGML v1.0//EN
CALSCALE:GREGORIAN
METHOD:PUBLISH
X-WR-CALNAME:KYHA
X-ORIGINAL-URL:https://www.kyha.com
X-WR-CALDESC:Events for KYHA
REFRESH-INTERVAL;VALUE=DURATION:PT1H
X-Robots-Tag:noindex
X-PUBLISHED-TTL:PT1H
BEGIN:VTIMEZONE
TZID:America/Kentucky/Louisville
BEGIN:DAYLIGHT
TZOFFSETFROM:-0500
TZOFFSETTO:-0400
TZNAME:EDT
DTSTART:20230312T070000
END:DAYLIGHT
BEGIN:STANDARD
TZOFFSETFROM:-0400
TZOFFSETTO:-0500
TZNAME:EST
DTSTART:20231105T060000
END:STANDARD
BEGIN:DAYLIGHT
TZOFFSETFROM:-0500
TZOFFSETTO:-0400
TZNAME:EDT
DTSTART:20240310T070000
END:DAYLIGHT
BEGIN:STANDARD
TZOFFSETFROM:-0400
TZOFFSETTO:-0500
TZNAME:EST
DTSTART:20241103T060000
END:STANDARD
BEGIN:DAYLIGHT
TZOFFSETFROM:-0500
TZOFFSETTO:-0400
TZNAME:EDT
DTSTART:20250309T070000
END:DAYLIGHT
BEGIN:STANDARD
TZOFFSETFROM:-0400
TZOFFSETTO:-0500
TZNAME:EST
DTSTART:20251102T060000
END:STANDARD
END:VTIMEZONE
BEGIN:VEVENT
DTSTART;TZID=America/Kentucky/Louisville:20241017T140000
DTEND;TZID=America/Kentucky/Louisville:20241017T160000
DTSTAMP:20260421T190719
CREATED:20240906T123339Z
LAST-MODIFIED:20240906T123339Z
UID:24813-1729173600-1729180800@www.kyha.com
SUMMARY:Health Law Today: KHA ACHE Choice Program
DESCRIPTION:Join the Health Law Today KHA ACHE Choice Program after the KHA Health Policy Conference on October 17 at 2:00 – 4:00 p.m. (ET) in Lexington. Attendees will learn what legal and regulatory developments will have the greatest impact upon hospitals in Kentucky and what you can do as health care leaders to adapt to these challenges. \n\nBrochure\nRegistration
URL:https://www.kyha.com/event/health-law-today-kha-ache-choice-program/
CATEGORIES:Education
ATTACH;FMTTYPE=image/webp:https://www.kyha.com/wp-content/uploads/2024/01/ache-events.webp
END:VEVENT
BEGIN:VEVENT
DTSTART;VALUE=DATE:20241021
DTEND;VALUE=DATE:20241022
DTSTAMP:20260421T190719
CREATED:20240618T133707Z
LAST-MODIFIED:20240829T123308Z
UID:22633-1729468800-1729555199@www.kyha.com
SUMMARY:KHA Environment of Care Conference: The Bridge Between All Disciplines
DESCRIPTION:Holiday Inn Louisville East \nJoin KHA on October 21 from 8:00 a.m. to 4:00 p.m. (ET) for the Environment of Care Conference. Enjoy a full day of interactive learning and engage with subject matter experts regarding the key topics that hospital safety\, emergency management\, quality\, clinical\, and environment of care leaders must face every day. \nPresentations will include cutting-edge information on how to achieve continual environment of care (EOC) and life safety survey readiness\, ways to employ practical approaches to executing efficient and effective tabletop drills\, and tips for using innovative methods of engaging non-clinical care teams in infection prevention and environmental safety to maximize the impact of working with a full team of people who are dedicated to patient care. \nThe Conference is all new and updated for 2024\, so your team won’t want to miss this educational opportunity. \n\nReview the Agenda\nRegister Now\n\nFor more information\, please contact Tammy Wells.
URL:https://www.kyha.com/event/kha-environment-of-care-conference/
CATEGORIES:Conference,Education,Quality
ATTACH;FMTTYPE=image/webp:https://www.kyha.com/wp-content/uploads/2024/02/quality-news.webp
END:VEVENT
END:VCALENDAR