BEGIN:VCALENDAR
VERSION:2.0
PRODID:-//KYHA - ECPv6.15.20//NONSGML v1.0//EN
CALSCALE:GREGORIAN
METHOD:PUBLISH
X-WR-CALNAME:KYHA
X-ORIGINAL-URL:https://www.kyha.com
X-WR-CALDESC:Events for KYHA
REFRESH-INTERVAL;VALUE=DURATION:PT1H
X-Robots-Tag:noindex
X-PUBLISHED-TTL:PT1H
BEGIN:VTIMEZONE
TZID:America/Kentucky/Louisville
BEGIN:DAYLIGHT
TZOFFSETFROM:-0500
TZOFFSETTO:-0400
TZNAME:EDT
DTSTART:20230312T070000
END:DAYLIGHT
BEGIN:STANDARD
TZOFFSETFROM:-0400
TZOFFSETTO:-0500
TZNAME:EST
DTSTART:20231105T060000
END:STANDARD
BEGIN:DAYLIGHT
TZOFFSETFROM:-0500
TZOFFSETTO:-0400
TZNAME:EDT
DTSTART:20240310T070000
END:DAYLIGHT
BEGIN:STANDARD
TZOFFSETFROM:-0400
TZOFFSETTO:-0500
TZNAME:EST
DTSTART:20241103T060000
END:STANDARD
BEGIN:DAYLIGHT
TZOFFSETFROM:-0500
TZOFFSETTO:-0400
TZNAME:EDT
DTSTART:20250309T070000
END:DAYLIGHT
BEGIN:STANDARD
TZOFFSETFROM:-0400
TZOFFSETTO:-0500
TZNAME:EST
DTSTART:20251102T060000
END:STANDARD
END:VTIMEZONE
BEGIN:VEVENT
DTSTART;VALUE=DATE:20240911
DTEND;VALUE=DATE:20240913
DTSTAMP:20260421T204120
CREATED:20240730T121933Z
LAST-MODIFIED:20240730T121933Z
UID:23335-1726012800-1726185599@www.kyha.com
SUMMARY:2024 Kentucky Symposium for Maternal and Infant Outcomes
DESCRIPTION:The Kentucky Perinatal Quality Collaborative (KyPQC) and the Kentucky Maternal Morbidity and Mortality (KyMMM) Task Force are hosting a joint Kentucky Symposium for Maternal and Infant Outcomes on September 11-12. Day 1 of this Symposium is dedicated to the 2024 KyPQC 6th Annual Meeting and day 2 will feature the 2024 KyMMM Task Force Inaugural Meeting. You can attend in person at the Bluegrass Music Hall of Fame in Owensboro or you can join virtually. \nDay 1 September 11: 2024 KyPQC 6th Annual Meeting  \nDay 2 September 12: 2024 KyMMM Task Force Inaugural Meeting  \n\nLodging Information\nRegistration\nAgenda\nMore Details
URL:https://www.kyha.com/event/2024-kentucky-symposium-for-maternal-and-infant-outcomes/
CATEGORIES:Education
END:VEVENT
BEGIN:VEVENT
DTSTART;VALUE=DATE:20240919
DTEND;VALUE=DATE:20240920
DTSTAMP:20260421T204120
CREATED:20240828T134553Z
LAST-MODIFIED:20240828T134553Z
UID:24629-1726704000-1726790399@www.kyha.com
SUMMARY:The Kentucky Medicaid Forum
DESCRIPTION:Join the Kentucky Department for Medicaid Services on September 19 at 8:00 a.m. (ET) at the Galt House in Louisville for a day filled with informative sessions\, networking opportunities\, and fun activities. This in-person event is your chance to reconnect with fellow Medicaid professionals\, learn about the latest industry trends\, and expand your knowledge. Don’t miss out on this exciting opportunity to grow your skills and connect with like-minded individuals. \n\nRegistration
URL:https://www.kyha.com/event/the-kentucky-medicaid-forum/
CATEGORIES:Education
ATTACH;FMTTYPE=image/webp:https://www.kyha.com/wp-content/uploads/2023/11/team-kentucky-event.webp
END:VEVENT
BEGIN:VEVENT
DTSTART;VALUE=DATE:20240926
DTEND;VALUE=DATE:20240927
DTSTAMP:20260421T204120
CREATED:20240807T212405Z
LAST-MODIFIED:20240807T212405Z
UID:23624-1727308800-1727395199@www.kyha.com
SUMMARY:Healthcare Financial Management Association (HFMA) Kentucky Chapter 2024 Fall Institute
DESCRIPTION:The Healthcare Financial Management Association (HFMA) Kentucky Chapter will host its 2024 Fall Institute on Thursday\, September 26 at the Kentucky Derby Museum in Louisville. The program features numerous CPE-eligible education sessions and a networking event at Churchill Downs. \nDetails and Registration
URL:https://www.kyha.com/event/healthcare-financial-management-association-hfma-kentucky-chapter-2024-fall-institute/
CATEGORIES:Education
ATTACH;FMTTYPE=image/webp:https://www.kyha.com/wp-content/uploads/2024/01/hfma-ky-chapter.webp
END:VEVENT
BEGIN:VEVENT
DTSTART;VALUE=DATE:20240926
DTEND;VALUE=DATE:20240927
DTSTAMP:20260421T204120
CREATED:20240830T131432Z
LAST-MODIFIED:20240830T131432Z
UID:24651-1727308800-1727395199@www.kyha.com
SUMMARY:2024 Kentucky Rural Telehealth Summit
DESCRIPTION:Join the 2024 Kentucky Telehealth Summit on September 26 at 9:00 a.m. – 4:15 p.m. (CT) at the Knicely Center in Bowling Green. This one-day event is tailored towards telehealth consumers\, those interested in telehealth\, or those who wish to improve and learn more about telehealth. Attendees are also able to participate in live webinars several times each year to hear from telehealth experts from across the country (see below for links to 3 webinars that were presented this year). \nYou won’t want to miss the remarkable panel of speakers and topics that will support your telehealth efforts including: \n\nHow is telehealth organized in your healthcare facility?\nUrgent Primary Care Telehealth\, “Let’s keep patients out of the emergency room”\nUsing telehealth to improve School-Based Health services\nLisa Lee\, Commissioner\, Kentucky Medicaid Services\nBobby Mukkamala\, MD\, President-elect\, American Medical Association\nAn outstanding panel of experts will discuss the current and upcoming legal and regulatory environment for telehealth\nAnd many more important sessions\n\nRegistration fees are $150. \n\nRegistration
URL:https://www.kyha.com/event/2024-kentucky-rural-telehealth-summit/
CATEGORIES:Education
ATTACH;FMTTYPE=image/webp:https://www.kyha.com/wp-content/uploads/2024/08/RuralTelehealthSummit2024.webp
END:VEVENT
END:VCALENDAR