BEGIN:VCALENDAR
VERSION:2.0
PRODID:-//KYHA - ECPv6.15.20//NONSGML v1.0//EN
CALSCALE:GREGORIAN
METHOD:PUBLISH
X-ORIGINAL-URL:https://www.kyha.com
X-WR-CALDESC:Events for KYHA
REFRESH-INTERVAL;VALUE=DURATION:PT1H
X-Robots-Tag:noindex
X-PUBLISHED-TTL:PT1H
BEGIN:VTIMEZONE
TZID:America/Kentucky/Louisville
BEGIN:DAYLIGHT
TZOFFSETFROM:-0500
TZOFFSETTO:-0400
TZNAME:EDT
DTSTART:20230312T070000
END:DAYLIGHT
BEGIN:STANDARD
TZOFFSETFROM:-0400
TZOFFSETTO:-0500
TZNAME:EST
DTSTART:20231105T060000
END:STANDARD
BEGIN:DAYLIGHT
TZOFFSETFROM:-0500
TZOFFSETTO:-0400
TZNAME:EDT
DTSTART:20240310T070000
END:DAYLIGHT
BEGIN:STANDARD
TZOFFSETFROM:-0400
TZOFFSETTO:-0500
TZNAME:EST
DTSTART:20241103T060000
END:STANDARD
BEGIN:DAYLIGHT
TZOFFSETFROM:-0500
TZOFFSETTO:-0400
TZNAME:EDT
DTSTART:20250309T070000
END:DAYLIGHT
BEGIN:STANDARD
TZOFFSETFROM:-0400
TZOFFSETTO:-0500
TZNAME:EST
DTSTART:20251102T060000
END:STANDARD
END:VTIMEZONE
BEGIN:VEVENT
DTSTART;VALUE=DATE:20240805
DTEND;VALUE=DATE:20240808
DTSTAMP:20260421T223855
CREATED:20240614T174148Z
LAST-MODIFIED:20240730T170242Z
UID:22610-1722816000-1723075199@www.kyha.com
SUMMARY:AVADE Behavioral Health Training
DESCRIPTION:Note: This class is currently full. Please contact Tammy Wells at twells@kyha.com for more information. \nKHA is partnering with a Joint Commission-accredited workplace violence prevention program\, AVADE®\, to offer the Behavioral Health Workplace Safety Instructor Training. Personal Safety Training is accredited as a provider of nursing continuing professional development by the American Nurses Credentialing Center’s Commission on Accreditation. AVADE® Behavioral Health Workplace Safety Instructor Training Course = 24 ANCC Contact Hours. \nThis course is limited to 25 hospital representatives (ONE attendee per member hospital) who will receive this FREE training ($2\,000 value!). Register now to secure your spot! \nDAY ONE: AVADE® Level 1 training covers the basics of identifying\, understanding\, and responding to behavioral health situations to educate\, prevent\, and manage crisis effectively. \nDAY TWO: The first half of the day is dedicated to refining teaching techniques for AVADE® Level 1\, aimed at improving learning outcomes and information retention. The second half of the day focuses on AVADE® Level II self-defense tactics/techniques tailored to the behavioral health setting. \nDAY THREE: Participants will review AVADE® Level II self-defense tactics and then proceed to learn AVADE®\nLevel III defensive control tactics. \nLocation:\nNorton Orthopedic and Hand Center\nNorton Medical Plaza II\n9880 Angie’s Way\, Suite 120\nLouisville\, KY 40223 \n\nDetailed Brochure
URL:https://www.kyha.com/event/avade-behavioral-health-training/
CATEGORIES:Education
ATTACH;FMTTYPE=image/webp:https://www.kyha.com/wp-content/uploads/2023/12/avade-logo-events.webp
END:VEVENT
BEGIN:VEVENT
DTSTART;TZID=America/Kentucky/Louisville:20240807T090000
DTEND;TZID=America/Kentucky/Louisville:20240807T140000
DTSTAMP:20260421T223855
CREATED:20240425T130934Z
LAST-MODIFIED:20240712T203742Z
UID:20675-1723021200-1723039200@www.kyha.com
SUMMARY:Regional 340B Roundtable
DESCRIPTION:KHA Affinity Partner SUNRx will host an inaugural Regional 340B Roundtable on August 7 at the Belterra Casino Resort in Florence\, Indiana\, for 340B teams from Kentucky\, Indiana\, Ohio\, and Michigan. \nProposed legislation at both federal and state levels necessitates that eligible 340B entities demonstrate agility and discipline in managing their programs. Successfully navigating the complex landscape of 340B pricing limitations established by Big Pharma demands a thorough comprehension of the existing regulatory framework. This roundtable aims to offer valuable insights to aid decision-making\, enabling your entity to uphold compliance and optimize its 340B pharmacy program. \nAt this roundtable\, we will network\, discuss and share valuable insights for consideration in the management of your 340B pharmacy strategy. \n\nCurrent 340B federal and state regulatory environment\nCurrent 340B environment with drug manufacturers\n340B transparency and reporting trends\nWays your entity can position itself moving forward\n\nThis event is intended exclusively for 340B entities. \nHotel Accommodations: Click Here \nRegistration: Click Here \nFor more information on this event\, please contact John Bretz.
URL:https://www.kyha.com/event/regional-340b-roundtable/
LOCATION:Belterra Casino Resort\, 777 Belterra Drive\, Florence\, Indiana\, 47020
CATEGORIES:Education
ATTACH;FMTTYPE=image/webp:https://www.kyha.com/wp-content/uploads/2024/04/regional-340b-roundtable-events.webp
END:VEVENT
BEGIN:VEVENT
DTSTART;TZID=America/Kentucky/Louisville:20240813T120000
DTEND;TZID=America/Kentucky/Louisville:20240813T124500
DTSTAMP:20260421T223855
CREATED:20240717T210015Z
LAST-MODIFIED:20240717T210226Z
UID:23212-1723550400-1723553100@www.kyha.com
SUMMARY:RETAIN Kentucky and Employment First’s August Employer Seminar: Employers as Change Agents
DESCRIPTION:RETAIN Kentucky and Employment First will host their August employer seminar on August 13 from 12:00 – 12:45 p.m. (ET). Attend to hear Sherry Glenn\, Diversity and Inclusion Specialist from Brown Forman\, share her expertise and innovative approach to recruitment and retention of employees with disabilities. \n\nContact Retain Kentucky for more information
URL:https://www.kyha.com/event/retain-kentucky-and-employment-firsts-august-employer-seminar-employers-as-change-agents/
CATEGORIES:Education
ATTACH;FMTTYPE=image/webp:https://www.kyha.com/wp-content/uploads/2024/07/RetainKentucky.webp
END:VEVENT
BEGIN:VEVENT
DTSTART;VALUE=DATE:20240816
DTEND;VALUE=DATE:20240817
DTSTAMP:20260421T223855
CREATED:20240716T154329Z
LAST-MODIFIED:20240725T155647Z
UID:23029-1723766400-1723852799@www.kyha.com
SUMMARY:2024 Rural Trauma Team Development Course
DESCRIPTION:The Eastern KY Healthcare Coalition & Pikeville Medical Center are offering a 2024  Rural Trauma Team Development Course \nAugust 16\, 2024 8am-5pm \nSponsors: Kentucky Trauma Advisory Committee through the KY Hospital Research & Education Foundation and the Eastern Kentucky Healthcare Coalition \nCourse location:  ARH Highlands\, Prestonsburg\, KY\nCourse fee is $25 per participant \nSeats are limited. Register Now! \nhttps://www.pikevillehospital.org/ruraltrauma/ \nWant to know more about what the RTTDC course is all about?\nhttps://www.facs.org/quality-programs/trauma/education/rural-trauma-team-development-course/
URL:https://www.kyha.com/event/2024-rural-trauma-team-development-course/
CATEGORIES:Education
ATTACH;FMTTYPE=image/png:https://www.kyha.com/wp-content/uploads/2024/01/pikeville-medical-center-events.png
END:VEVENT
BEGIN:VEVENT
DTSTART;TZID=America/Kentucky/Louisville:20240821T140000
DTEND;TZID=America/Kentucky/Louisville:20240821T150000
DTSTAMP:20260421T223855
CREATED:20240802T175757Z
LAST-MODIFIED:20240802T175956Z
UID:23411-1724248800-1724252400@www.kyha.com
SUMMARY:Trauma System News Webinar: How to Build a High-Performance Trauma Registry Team
DESCRIPTION:Many trauma registry teams struggle with the challenges of ensuring timely chart completion\, delivering effective staff education\, minimizing staff turnover and maintaining a concurrent trauma registry. Any shortfalls in these areas can reduce the availability of quality trauma data and create compliance issues. \nThis interactive webinar will show how two leading trauma centers reworked registry organization\, workflows and processes to improve registry team performance and results.  This webinar will include a live Q&A\, so come with all your unanswered questions about registry team organization\, chart abstraction strategies and any other issue in registry team management. \nSponsored by ImageTrend\, this webinar is designed for TPMs\, trauma registry managers\, trauma registry staff\, PI coordinators\, trauma data analysts\, TMDs and anyone who depends on the availability of rich\, accurate and concurrent trauma data. \nIf interested\, you can find out more and reserve your seat by clicking here.
URL:https://www.kyha.com/event/trauma-system-news-webinar-how-to-build-a-high-performance-trauma-registry-team/
CATEGORIES:Education,Webinar
ATTACH;FMTTYPE=image/webp:https://www.kyha.com/wp-content/uploads/2024/08/TLW-082124.webp
END:VEVENT
BEGIN:VEVENT
DTSTART;VALUE=DATE:20240822
DTEND;VALUE=DATE:20240823
DTSTAMP:20260421T223855
CREATED:20240703T123322Z
LAST-MODIFIED:20240731T184213Z
UID:22841-1724284800-1724371199@www.kyha.com
SUMMARY:Substance Prevention and Recovery Knowledge (S.P.A.R.K.) Summit
DESCRIPTION:The Western Kentucky Opioid Taskforce will host the Substance Prevention and Recovery Knowledge (S.P.A.R.K.) Summit on Thursday\, August 22 at the Murray State University-Paducah Regional Campus. \nTopics will include synthetic opioids\, research about HIV self-testing programs\, recovery capital\, stigma surrounding HIV\, medication for opioid use disorder\, deflection/diversion programs\, and a panel of those bridging the gap between the hard-to-reach populations. \nAs of now\, S.P.A.R.K. will offer CEUs for nursing and 7 hours towards Department for Local Government (DLG) credits. S.P.A.R.K. is currently seeking out continuing education units (CEUs) for those in emergency medical services (EMS)\, family resource youth services center (FRYSC)\, pharmacy\, clinical alcohol and drug counselors\, social workers\, psychology\, peer support specialist (PSS)\, and community health worker (CHW) fields. \n\nDetails and Registration
URL:https://www.kyha.com/event/substance-prevention-and-recovery-knowledge-s-p-a-r-k-summit/
CATEGORIES:Education
ATTACH;FMTTYPE=image/webp:https://www.kyha.com/wp-content/uploads/2024/07/Opioid-Taskforce.webp
END:VEVENT
END:VCALENDAR