BEGIN:VCALENDAR
VERSION:2.0
PRODID:-//KYHA - ECPv6.15.20//NONSGML v1.0//EN
CALSCALE:GREGORIAN
METHOD:PUBLISH
X-WR-CALNAME:KYHA
X-ORIGINAL-URL:https://www.kyha.com
X-WR-CALDESC:Events for KYHA
REFRESH-INTERVAL;VALUE=DURATION:PT1H
X-Robots-Tag:noindex
X-PUBLISHED-TTL:PT1H
BEGIN:VTIMEZONE
TZID:America/Kentucky/Louisville
BEGIN:DAYLIGHT
TZOFFSETFROM:-0500
TZOFFSETTO:-0400
TZNAME:EDT
DTSTART:20230312T070000
END:DAYLIGHT
BEGIN:STANDARD
TZOFFSETFROM:-0400
TZOFFSETTO:-0500
TZNAME:EST
DTSTART:20231105T060000
END:STANDARD
BEGIN:DAYLIGHT
TZOFFSETFROM:-0500
TZOFFSETTO:-0400
TZNAME:EDT
DTSTART:20240310T070000
END:DAYLIGHT
BEGIN:STANDARD
TZOFFSETFROM:-0400
TZOFFSETTO:-0500
TZNAME:EST
DTSTART:20241103T060000
END:STANDARD
BEGIN:DAYLIGHT
TZOFFSETFROM:-0500
TZOFFSETTO:-0400
TZNAME:EDT
DTSTART:20250309T070000
END:DAYLIGHT
BEGIN:STANDARD
TZOFFSETFROM:-0400
TZOFFSETTO:-0500
TZNAME:EST
DTSTART:20251102T060000
END:STANDARD
END:VTIMEZONE
BEGIN:VEVENT
DTSTART;TZID=America/Kentucky/Louisville:20240719T160000
DTEND;TZID=America/Kentucky/Louisville:20240719T173000
DTSTAMP:20260422T000808
CREATED:20240709T205149Z
LAST-MODIFIED:20240709T205208Z
UID:22964-1721404800-1721410200@www.kyha.com
SUMMARY:ACHE Education Event - Population Health Management: Outcomes\, Access\, And Financial Implications
DESCRIPTION:Join the American College of Healthcare Executives (ACHE) on July 19 from 4:00 to 5:30 p.m. (ET) for an educational event at UofL Health Jewish Heart Hospital in Louisville. \nACHE panelists will discuss how organizations can prepare to move into value-based models of care\, so when they become widespread\, facilities can fly at full speed\, not struggle to build their plane in the air. \n\nMore Details & Registration\n\nJoin your fellow members for networking at 21C after the event.
URL:https://www.kyha.com/event/ache-education-event-population-health-management-outcomes-access-and-financial-implications/
CATEGORIES:Education
ATTACH;FMTTYPE=image/webp:https://www.kyha.com/wp-content/uploads/2024/01/ache-events.webp
END:VEVENT
END:VCALENDAR