BEGIN:VCALENDAR
VERSION:2.0
PRODID:-//KYHA - ECPv6.15.20//NONSGML v1.0//EN
CALSCALE:GREGORIAN
METHOD:PUBLISH
X-WR-CALNAME:KYHA
X-ORIGINAL-URL:https://www.kyha.com
X-WR-CALDESC:Events for KYHA
REFRESH-INTERVAL;VALUE=DURATION:PT1H
X-Robots-Tag:noindex
X-PUBLISHED-TTL:PT1H
BEGIN:VTIMEZONE
TZID:America/Kentucky/Louisville
BEGIN:DAYLIGHT
TZOFFSETFROM:-0500
TZOFFSETTO:-0400
TZNAME:EDT
DTSTART:20230312T070000
END:DAYLIGHT
BEGIN:STANDARD
TZOFFSETFROM:-0400
TZOFFSETTO:-0500
TZNAME:EST
DTSTART:20231105T060000
END:STANDARD
BEGIN:DAYLIGHT
TZOFFSETFROM:-0500
TZOFFSETTO:-0400
TZNAME:EDT
DTSTART:20240310T070000
END:DAYLIGHT
BEGIN:STANDARD
TZOFFSETFROM:-0400
TZOFFSETTO:-0500
TZNAME:EST
DTSTART:20241103T060000
END:STANDARD
BEGIN:DAYLIGHT
TZOFFSETFROM:-0500
TZOFFSETTO:-0400
TZNAME:EDT
DTSTART:20250309T070000
END:DAYLIGHT
BEGIN:STANDARD
TZOFFSETFROM:-0400
TZOFFSETTO:-0500
TZNAME:EST
DTSTART:20251102T060000
END:STANDARD
END:VTIMEZONE
BEGIN:VEVENT
DTSTART;VALUE=DATE:20240507
DTEND;VALUE=DATE:20240508
DTSTAMP:20260422T034507
CREATED:20240131T172347Z
LAST-MODIFIED:20240131T190954Z
UID:17282-1715040000-1715126399@www.kyha.com
SUMMARY:Social Media Engagement Strategies (PER-343): Northern KY HCC Region
DESCRIPTION:Audience: Hospital Emergency Management personnel and PIO \nLocation: Campbell County Fire Training Center\n10 Training Center Drive\nHighland Heights\, KY \nClick here to register \nEnhance your knowledge and skills to implement strategies to better engage individuals and partner organizations. Experience more in-depth training in the use of social media content types\, engagement strategies\, and measurement tools. Participate in group activities throughout the course and increase your abilities to create a social media strategy and better adapt to changing needs and strategies throughout the phases of emergency management. Click here for more information.
URL:https://www.kyha.com/event/social-media-engagement-strategies-per-343/
CATEGORIES:Education
ATTACH;FMTTYPE=image/webp:https://www.kyha.com/wp-content/uploads/2024/01/fema-events.webp
END:VEVENT
BEGIN:VEVENT
DTSTART;VALUE=DATE:20240514
DTEND;VALUE=DATE:20240515
DTSTAMP:20260422T034507
CREATED:20240131T172734Z
LAST-MODIFIED:20240131T191107Z
UID:17286-1715644800-1715731199@www.kyha.com
SUMMARY:Physical and Cybersecurity for Critical Infrastructure (MGT452): Northern KY HCC Region
DESCRIPTION:Audience: IT and Hospital Emergency Management personnel \nLocation: Campbell County Fire Training Center\n10 Training Center Drive\nHighland Heights\, KY \nThe national and economic security of the United States depends on the reliable functioning of critical infrastructure. This course encourages collaboration efforts among individuals and organizations responsible for both physical and cybersecurity toward development of integrated risk management strategies that lead to enhanced capabilities necessary for the protection of our Nation’s critical infrastructure. Participants will identify physical and cybersecurity concerns impacting overall infrastructure security posture\, examine integrated physical and cybersecurity incidents and the evolving risks and impacts they pose to critical infrastructure\, and explore resources that can be applied to improve security within an organization\, business\, or government entity. \n\nClick here to register\nMore information
URL:https://www.kyha.com/event/physical-and-cybersecurity-for-critical-infrastructure-mgt452/
CATEGORIES:Education
ATTACH;FMTTYPE=image/webp:https://www.kyha.com/wp-content/uploads/2024/01/campbell-county-events.webp
END:VEVENT
BEGIN:VEVENT
DTSTART;VALUE=DATE:20240520
DTEND;VALUE=DATE:20240521
DTSTAMP:20260422T034507
CREATED:20231212T192950Z
LAST-MODIFIED:20240112T130416Z
UID:14377-1716163200-1716249599@www.kyha.com
SUMMARY:Cyber Tabletop Exercise (In-Person)
DESCRIPTION:All attendees will engage in a group critical thinking and strategic leadership cyber incident exercise. This highly interactive session is designed for both technical and non-technical leaders and structured to test incident response plans\, identify gaps\, and elicit strategic decision-making skills under simulated adversarial conditions. \nThis event is part of the Cybersecurity Crisis Management: Strategies for Health Care Executives series.\n\nThis series is a worthwhile investment for both technical and non-technical professionals including CEOs\, CNOs\, CFOs\, CMOs\, CIOs\, CROs\, COOs\, senior leadership\, nursing leadership and IT department. \nHospitals across the United States continue to be targets of ransomware and other types of cyberattacks. Not only can these events result in significant and costly breaches of patient information\, but they also threaten hospital operations and patient outcomes. System encryption can result in denial of access to life-saving information and medical equipment\, while recovery diverts resources from essential operations. Enterprise-wide education on risks and prevention continues to be critical to an organization’s cyber defense strategy. The Kentucky Hospital Association is proud to partner with the American Hospital Association and Stites & Harbison to provide this important series of educational opportunities. \n\nDownload Brochure\nContact: Tammy Wells
URL:https://www.kyha.com/event/cyber-tabletop-in-person-exercise/
LOCATION:Central Bank Center\, Lexington\, Kentucky
CATEGORIES:Education
ATTACH;FMTTYPE=image/webp:https://www.kyha.com/wp-content/uploads/2023/12/cybersecurity-webinar-series.webp
END:VEVENT
BEGIN:VEVENT
DTSTART;VALUE=DATE:20240520
DTEND;VALUE=DATE:20240523
DTSTAMP:20260422T034507
CREATED:20231017T201620Z
LAST-MODIFIED:20240320T205519Z
UID:4290-1716163200-1716422399@www.kyha.com
SUMMARY:KHA 2024 Annual Convention
DESCRIPTION:The Kentucky Hospital Association 95th Annual Convention is the premiere event for health care leaders in Kentucky! There are two solid days education and continuing education credits. You won’t want to miss the chance to network with your peers face to face and attend the special events.  If you have any questions\, please contact Claire Arant at KHA (carant@kyha.com) for more information. \n\nCLICK HERE TO REGISTER
URL:https://www.kyha.com/event/kha-2024-annual-convention/
LOCATION:Central Bank Center\, Lexington\, Kentucky
CATEGORIES:Conference,Education
ATTACH;FMTTYPE=image/webp:https://www.kyha.com/wp-content/uploads/2023/10/kha-2024-convention-events.webp
END:VEVENT
END:VCALENDAR