BEGIN:VCALENDAR
VERSION:2.0
PRODID:-//KYHA - ECPv6.15.20//NONSGML v1.0//EN
CALSCALE:GREGORIAN
METHOD:PUBLISH
X-ORIGINAL-URL:https://www.kyha.com
X-WR-CALDESC:Events for KYHA
REFRESH-INTERVAL;VALUE=DURATION:PT1H
X-Robots-Tag:noindex
X-PUBLISHED-TTL:PT1H
BEGIN:VTIMEZONE
TZID:America/Kentucky/Louisville
BEGIN:DAYLIGHT
TZOFFSETFROM:-0500
TZOFFSETTO:-0400
TZNAME:EDT
DTSTART:20230312T070000
END:DAYLIGHT
BEGIN:STANDARD
TZOFFSETFROM:-0400
TZOFFSETTO:-0500
TZNAME:EST
DTSTART:20231105T060000
END:STANDARD
BEGIN:DAYLIGHT
TZOFFSETFROM:-0500
TZOFFSETTO:-0400
TZNAME:EDT
DTSTART:20240310T070000
END:DAYLIGHT
BEGIN:STANDARD
TZOFFSETFROM:-0400
TZOFFSETTO:-0500
TZNAME:EST
DTSTART:20241103T060000
END:STANDARD
BEGIN:DAYLIGHT
TZOFFSETFROM:-0500
TZOFFSETTO:-0400
TZNAME:EDT
DTSTART:20250309T070000
END:DAYLIGHT
BEGIN:STANDARD
TZOFFSETFROM:-0400
TZOFFSETTO:-0500
TZNAME:EST
DTSTART:20251102T060000
END:STANDARD
END:VTIMEZONE
BEGIN:VEVENT
DTSTART;TZID=America/Kentucky/Louisville:20240207T113000
DTEND;TZID=America/Kentucky/Louisville:20240207T123000
DTSTAMP:20260422T085846
CREATED:20240205T133209Z
LAST-MODIFIED:20240205T133209Z
UID:17722-1707305400-1707309000@www.kyha.com
SUMMARY:CISA Live!: Boosting Water Sector Cybersecurity
DESCRIPTION:On Wednesday\, February 7\, CISA will host a CISA Live! – Boosting Water Sector Cybersecurity event on LinkedIn Live where CISA Deputy Director Nitin Natarajan and Director of Environmental Protection Agency Water Infrastructure and Cyber Resilience Division David Travers will chat about the critical importance of water sector cybersecurity. During the discussion\, these experts will cover topics related to the current water sector cyber risk environment\, the importance of partnerships\, sector challenges and provide information on how stakeholders can improve their cybersecurity. CISA will also share information related to resources that may be helpful to the Water Sector.  Live event viewers can participate in a Question & Answer session.
URL:https://www.kyha.com/event/cisa-live-boosting-water-sector-cybersecurity/
CATEGORIES:Education
ATTACH;FMTTYPE=image/webp:https://www.kyha.com/wp-content/uploads/2024/02/cisa-events.webp
END:VEVENT
BEGIN:VEVENT
DTSTART;TZID=America/Kentucky/Louisville:20240215T110000
DTEND;TZID=America/Kentucky/Louisville:20240215T120000
DTSTAMP:20260422T085846
CREATED:20240208T143640Z
LAST-MODIFIED:20240208T143640Z
UID:18207-1707994800-1707998400@www.kyha.com
SUMMARY:Public Health Emergency Unwinding Stakeholder Meeting
DESCRIPTION:Join the Kentucky Department for Medicaid Services for the next Public Health Emergency (PHE) Unwinding Stakeholder Meeting on February 15 at 11:00 a.m. (ET). Monthly PHE stakeholder meetings are an excellent opportunity to receive updates and gather information. If you are a Medicaid stakeholder\, such as providers\, kynectors\, or insurance agents\, these forums could be beneficial to you in assisting clients. \n\nRegistration\n\nFor more information about the unwinding process\, visit https://khbe.ky.gov/Enrollment/Pages/PHEUnwinding.aspx
URL:https://www.kyha.com/event/public-health-emergency-unwinding-stakeholder-meeting/
CATEGORIES:Education
ATTACH;FMTTYPE=image/webp:https://www.kyha.com/wp-content/uploads/2023/11/team-kentucky-event.webp
END:VEVENT
BEGIN:VEVENT
DTSTART;VALUE=DATE:20240221
DTEND;VALUE=DATE:20240223
DTSTAMP:20260422T085846
CREATED:20240123T134911Z
LAST-MODIFIED:20240219T133320Z
UID:16985-1708473600-1708646399@www.kyha.com
SUMMARY:Kentucky HFMA 2024 Annual Conference
DESCRIPTION:Register today for the Kentucky HFMA 2024 Annual Conference on February 21-22 in Lexington\, where KHA’s Carl Herde and Melanie Landrum will be amongst the presenters! There will also be the opportunity to earn 1.5 ACHE face-to-face credits. \nClick here to register
URL:https://www.kyha.com/event/kentucky-hfma-2024-annual-conference/
LOCATION:Hyatt Regency Lexington
CATEGORIES:Education
ATTACH;FMTTYPE=image/webp:https://www.kyha.com/wp-content/uploads/2024/01/hfma-ky-chapter.webp
END:VEVENT
BEGIN:VEVENT
DTSTART;TZID=America/Kentucky/Louisville:20240223T130000
DTEND;TZID=America/Kentucky/Louisville:20240223T140000
DTSTAMP:20260422T085846
CREATED:20240131T132207Z
LAST-MODIFIED:20240131T132254Z
UID:17220-1708693200-1708696800@www.kyha.com
SUMMARY:Graphic Medicine and Universal Design Webinar: Using Graphic Arts to Reduce Barriers in Health Care
DESCRIPTION:Join the University of Kentucky’s Human Development Institute on February 23 at 1:00 p.m. (ET) for their webinar on Graphic Medicine and Universal Design: Using Graphic Arts to Reduce Barriers in Healthcare presented by Erin Fitzgerald. \n\nRegistration
URL:https://www.kyha.com/event/graphic-medicine-and-universal-design-webinar-using-graphic-arts-to-reduce-barriers-in-health-care/
CATEGORIES:Education
ATTACH;FMTTYPE=image/webp:https://www.kyha.com/wp-content/uploads/2024/01/university-of-kentucky-events.webp
END:VEVENT
BEGIN:VEVENT
DTSTART;VALUE=DATE:20240226
DTEND;VALUE=DATE:20240229
DTSTAMP:20260422T085846
CREATED:20231221T154615Z
LAST-MODIFIED:20231221T164624Z
UID:15305-1708905600-1709164799@www.kyha.com
SUMMARY:Advanced Instructor Training Course in Workplace Safety
DESCRIPTION:KHA has partnered with Joint Commission accredited company Personal Safety Training – AVADE\, to offer a FREE Workplace Safety Train the Trainer education valued at over $1\,800.00! This three-day course offering 24 ANCC Contact Hours is available on a first come\, first serve basis for hospital representatives (one attendee per member hospital) per session. \nPersonal Safety Training is accredited as a provider of nursing continuing professional development by the American Nurses Credentialing Center’s Commission on Accreditation. \nJoin one of the two available sessions this winter to learn important de-escalation techniques to help educate\, mitigate and prevent workplace violence! \nAttendees from KHA’s previous sessions in July and August 2023 were overflowing with compliments for the instructor\, David Fowler\, and the curriculum. Register now to reserve your spot! Please contact Tammy Wells for registration information.
URL:https://www.kyha.com/event/advanced-instructor-training-course-in-workplace-safety-2/
CATEGORIES:Education
ATTACH;FMTTYPE=image/webp:https://www.kyha.com/wp-content/uploads/2023/12/avade-logo-events.webp
END:VEVENT
BEGIN:VEVENT
DTSTART;VALUE=DATE:20240228
DTEND;VALUE=DATE:20240229
DTSTAMP:20260422T085846
CREATED:20240131T171308Z
LAST-MODIFIED:20240131T180840Z
UID:17272-1709078400-1709164799@www.kyha.com
SUMMARY:Advanced ICS Command & General Staff for Complex Incidents (ICS-400): HEART Region
DESCRIPTION:Audience: Hospital Emergency Management personnel \nLocation: WKU Innovation Campus (Room 129)\n2413 Nashville Road\nBowling Green\, KY 42101 \nClick here to register
URL:https://www.kyha.com/event/advanced-ics-command-general-staff-for-complex-incidents-ics-400/
CATEGORIES:Education
ATTACH;FMTTYPE=image/webp:https://www.kyha.com/wp-content/uploads/2024/01/ky-emergency-management-events.webp
END:VEVENT
BEGIN:VEVENT
DTSTART;VALUE=DATE:20240229
DTEND;VALUE=DATE:20240301
DTSTAMP:20260422T085846
CREATED:20240119T214020Z
LAST-MODIFIED:20240119T214020Z
UID:16941-1709164800-1709251199@www.kyha.com
SUMMARY:American College of Healthcare Executives (ACHE) Kentucky Chapter: Building the Hospital of Tomorrow
DESCRIPTION:In today’s competitive marketplace\, significant capital expenditure decisions can make or break a health care organization and the career of the executive(s) tasked with such decisions. No capital decision may be greater than the construction of a new facility or the substantial renovation of an existing one. After years of relative dormancy\, the health care construction boom continues throughout the U.S. for a variety of reasons\, many of which impact both small community hospitals and large urban health systems alike. The most common reasons for the renovations\, expansions\, and replacements include aging facilities\, population growth\, market demand\, and the need to improve operational efficiencies. Additionally\, competition moves organizations to incorporate the latest advances in care delivery\, medical technology\, new building codes and healing design elements to enhance the patient’s experience through the surrounding environment. Changes in building codes and patient safety standards also drive the need for construction and modification.  \nJoin the American College of Healthcare Executives (ACHE) Kentucky Chapter on February 29 at Owensboro Health Regional Hospital Auditorium to earn 1.5 hours of face-to-fact credit\, learn from an expert panel as they discuss building the hospital of tomorrow\, tour Health Force One mobile unit\, and enjoy a networking event following the educational session.  \nMember registration is $30\, non-members are $40\, and students are free. \nClick here for more information
URL:https://www.kyha.com/event/american-college-of-healthcare-executives-ache-kentucky-chapter-building-the-hospital-of-tomorrow/
CATEGORIES:Education
ATTACH;FMTTYPE=image/webp:https://www.kyha.com/wp-content/uploads/2024/01/ache-events.webp
END:VEVENT
END:VCALENDAR